BEGIN:VCALENDAR
VERSION:2.0
PRODID:-//Facultatea de Litere, Istorie, Filosofie și Teologie - ECPv6.15.14//NONSGML v1.0//EN
CALSCALE:GREGORIAN
METHOD:PUBLISH
X-ORIGINAL-URL:https://lift.uvt.ro
X-WR-CALDESC:Evenimente pentru Facultatea de Litere, Istorie, Filosofie și Teologie
REFRESH-INTERVAL;VALUE=DURATION:PT1H
X-Robots-Tag:noindex
X-PUBLISHED-TTL:PT1H
BEGIN:VTIMEZONE
TZID:Europe/Moscow
BEGIN:STANDARD
TZOFFSETFROM:+0300
TZOFFSETTO:+0300
TZNAME:MSK
DTSTART:20240101T000000
END:STANDARD
END:VTIMEZONE
BEGIN:VEVENT
DTSTART;TZID=Europe/Moscow:20251113T080000
DTEND;TZID=Europe/Moscow:20251115T170000
DTSTAMP:20260419T221449
CREATED:20251125T062242Z
LAST-MODIFIED:20251125T062702Z
UID:16975-1763020800-1763226000@lift.uvt.ro
SUMMARY:The 5th International Symposium on Biblical ExegesisTimișoara\, 13–15 November 2025
DESCRIPTION:ISBE 2025 PROGRAM \n  \nWith the blessing of His Eminence Ioan\, Metropolitan of Banat\, the 5th International Symposium on Biblical Exegesis was held in a hybrid format (both in-person and online) from 13 to 15 November 2025. Organized by Fr. Dr Ioan Mihoc and Fr. Dr Iosif Stancovici of the Faculty of Letters\, History\, Philosophy\, and Theology at the West University of Timișoara\, the event opened in the Rotonda Hall of the Faculty on the feast of Saint John Chrysostom\, a day which the Romanian Orthodox Church observes as Bible Day. \nThe theme of this edition — “Thy Will Be Done” (Mt 6:10): The Sermon on the Mount Throughout Centuries — provided a coherent and inspiring framework for the presentations and discussions. Scholars examined the Matthean text from biblical\, liturgical\, historical\, philological\, and artistic perspectives. Contributors representing universities and research institutions from Romania\, Serbia\, Bulgaria\, Poland\, Germany\, Switzerland\, France\, the United Kingdom\, and the United States gave the symposium a truly international character. \nOver the three days participants explored a rich variety of topics\, including the structure of sacred time\, patristic interpretations of the Beatitudes\, the relationship between biblical typology and wisdom literature\, and the reception of the Sermon on the Mount in Christian art. Other papers addressed manuscript traditions in Greek\, Slavonic and Romanian\, themes of obedience in the Pauline epistles\, and insights from the Acts of the Apostles on discerning God’s will in the early Church. \nA particularly encouraging feature of this year’s edition was the active and high-quality participation of younger researchers\, whose contributions testified to the vitality and dynamism of contemporary biblical studies. \nThe symposium once again highlighted the enduring value of serious\, ongoing engagement with Sacred Scripture in both academic research and the life of the Church. \n  \n  \n\n\n\n\n\n\n\n\n\n\n\n\n\n\n\n\n\n\n\n\n\n\n\n        \n            \n                                                \n\n                                        \n                        ISBE 2025 S1 Pr. Ioan MihocISBE 2025 S1 Pr. Srećko KoralijaISBE 2025 S1ISBE 2025 S3 Linda Saskia MenczelISBE 2025 S3 Ljubica JovanovićISBE 2025 S3 Wojciech KosekISBE 2025 S3ISBE 2025 S4 Jerzy OstapczukISBE 2025 S4 Mihai HandaricISBE 2025 S4 Mihailo MilenkovićISBE 2025 S4 Pr. John ApplegateISBE 2025 S5 Pr. Daniel EneaISBE 2025 S5 Pr. Marian Vild & Pr. Daniel HlodecISBE 2025 S5 Pr. Stelian Pașca-TușaISBE 2025 S6 Marek BaraniakISBE 2025 S6ISBE 2025 S7 Alexandru MihăilăISBE 2025 S7 Daniel Mihoc & Pr. Iosif StancoviciISBE 2025 S7 Pr. Alexandru AnastasiuISBE 2025 S8 George NicoarăISBE 2025 S8 Pr. Simion AnastasoaieISBE 2025 S8                    \n\n                                    \n            \n        \n         
URL:https://lift.uvt.ro/event/isbe-2025/
LOCATION:Facultatea de Litere\, Istorie\, Filosofie și Teologie\, sediul din str. Oituz nr. 4
CATEGORIES:Evenimente Științifice @ LIFT
END:VEVENT
END:VCALENDAR