BEGIN:VCALENDAR
VERSION:2.0
PRODID:-//Facultatea de Litere, Istorie, Filosofie și Teologie - ECPv6.15.14//NONSGML v1.0//EN
CALSCALE:GREGORIAN
METHOD:PUBLISH
X-WR-CALNAME:Facultatea de Litere, Istorie, Filosofie și Teologie
X-ORIGINAL-URL:https://lift.uvt.ro
X-WR-CALDESC:Evenimente pentru Facultatea de Litere, Istorie, Filosofie și Teologie
REFRESH-INTERVAL;VALUE=DURATION:PT1H
X-Robots-Tag:noindex
X-PUBLISHED-TTL:PT1H
BEGIN:VTIMEZONE
TZID:Europe/Moscow
BEGIN:STANDARD
TZOFFSETFROM:+0300
TZOFFSETTO:+0300
TZNAME:MSK
DTSTART:20250101T000000
END:STANDARD
END:VTIMEZONE
BEGIN:VEVENT
DTSTART;TZID=Europe/Moscow:20260716T160000
DTEND;TZID=Europe/Moscow:20260716T160000
DTSTAMP:20260419T150535
CREATED:20250328T131142Z
LAST-MODIFIED:20260303T081254Z
UID:14319-1784217600-1784217600@lift.uvt.ro
SUMMARY:Încheierea procesului de înscriere online\, prin completarea datelor solicitate de către platforma de admitere a UVTLicență (cetățeni români + UE)
DESCRIPTION:
URL:https://lift.uvt.ro/event/termen-depunere-dosare-licenta-cetateni-romani-ue/
LOCATION:Universitatea de Vest din Timișoara\, Bd. Vasile Pârvan\, nr. 4\, Timișoara\, Timiș\, 300223\, Romania
CATEGORIES:Admitere Licență (RO+UE) – iulie 2026
END:VEVENT
END:VCALENDAR