BEGIN:VCALENDAR
VERSION:2.0
PRODID:-//Facultatea de Litere, Istorie, Filosofie și Teologie - ECPv6.15.14//NONSGML v1.0//EN
CALSCALE:GREGORIAN
METHOD:PUBLISH
X-ORIGINAL-URL:https://lift.uvt.ro
X-WR-CALDESC:Evenimente pentru Facultatea de Litere, Istorie, Filosofie și Teologie
REFRESH-INTERVAL;VALUE=DURATION:PT1H
X-Robots-Tag:noindex
X-PUBLISHED-TTL:PT1H
BEGIN:VTIMEZONE
TZID:Europe/Moscow
BEGIN:STANDARD
TZOFFSETFROM:+0300
TZOFFSETTO:+0300
TZNAME:MSK
DTSTART:20220101T000000
END:STANDARD
END:VTIMEZONE
BEGIN:VEVENT
DTSTART;TZID=Europe/Moscow:20231103T090000
DTEND;TZID=Europe/Moscow:20231103T120000
DTSTAMP:20260421T081345
CREATED:20231024T051605Z
LAST-MODIFIED:20250304T092047Z
UID:5984-1699002000-1699012800@lift.uvt.ro
SUMMARY:SHADES OF MEANING\, 7TH EDITION\, ONLINEConcursul interuniversitar de traduceri
DESCRIPTION:  \nThe annual translation contest ‘Shades of Meaning’\, organized by the English Department of the Faculty of Leters\, History and Theology of the West University of Timișoara offers students studying English at university a competitive framework for testing their literary and non-literary translation skills. \nThe contest facilitates the interaction of WUT students with students taking a degree in English at other Romanian universities. \nThe contest stimulates students’ internal motivation and creativity\, key skills for a smooth integration into the professional translation market. \nThe contest gives participants the opportunity to attend workshops in the fields of translation\, creative writing and media. \n  \nCompetition regulations \nCall for participants \nRegistration form \n 
URL:https://lift.uvt.ro/event/shades-of-meaning-7th-edition-online/
LOCATION:Universitatea de Vest din Timișoara\, Bd. Vasile Pârvan\, nr. 4\, Timișoara\, Timiș\, 300223\, Romania
CATEGORIES:Extracurricular
ORGANIZER;CN="Eliza Filimon":MAILTO:eliza.filimon@e-uvt.ro
END:VEVENT
BEGIN:VEVENT
DTSTART;TZID=Europe/Moscow:20231103T101500
DTEND;TZID=Europe/Moscow:20231103T150000
DTSTAMP:20260421T081345
CREATED:20231024T125805Z
LAST-MODIFIED:20250304T092043Z
UID:6004-1699006500-1699023600@lift.uvt.ro
SUMMARY:SĂPTĂMÂNA CULTURII JAPONEZE LA TIMIȘOARA (ziua 1)Inaugurarea Centrului de Studii Est-Asiatice al UVTConferința ES dl. Hiroshi Ueda\, ambasadorul Japoniei la BucureștiPrezentarea programului de burse pentru studenți al Ministerului Educației din Japonia
DESCRIPTION:
URL:https://lift.uvt.ro/event/saptamana-culturii-japoneze-la-timisoara-ziua-1inaugurarea-centrului-de-studii-est-asiatice-al-uvtconferinta-es-dl-hiroshi-ueda-ambasadorul-japoniei-la-bucurestiprezentarea-programului-de-burse-pe/
LOCATION:Universitatea de Vest din Timișoara\, Bd. Vasile Pârvan\, nr. 4\, Timișoara\, Timiș\, 300223\, Romania
CATEGORIES:Extracurricular
ORGANIZER;CN="George T. Sipos":MAILTO:george.sipos@e-uvt.ro
END:VEVENT
END:VCALENDAR