BEGIN:VCALENDAR
VERSION:2.0
PRODID:-//Facultatea de Litere, Istorie, Filosofie și Teologie - ECPv6.15.14//NONSGML v1.0//EN
CALSCALE:GREGORIAN
METHOD:PUBLISH
X-WR-CALNAME:Facultatea de Litere, Istorie, Filosofie și Teologie
X-ORIGINAL-URL:https://lift.uvt.ro
X-WR-CALDESC:Evenimente pentru Facultatea de Litere, Istorie, Filosofie și Teologie
REFRESH-INTERVAL;VALUE=DURATION:PT1H
X-Robots-Tag:noindex
X-PUBLISHED-TTL:PT1H
BEGIN:VTIMEZONE
TZID:Europe/Moscow
BEGIN:STANDARD
TZOFFSETFROM:+0300
TZOFFSETTO:+0300
TZNAME:MSK
DTSTART:20230101T000000
END:STANDARD
END:VTIMEZONE
BEGIN:VEVENT
DTSTART;TZID=Europe/Moscow:20241111T100000
DTEND;TZID=Europe/Moscow:20241111T150000
DTSTAMP:20260420T110036
CREATED:20241007T153359Z
LAST-MODIFIED:20250304T091415Z
UID:11899-1731319200-1731337200@lift.uvt.ro
SUMMARY:Shades of Meaning translation contest8th edition
DESCRIPTION:  \n  \nCompetition regulations \nCall for participants \nRegistration form \n  \nContest website: http://shadesofmeaning.uvt.ro/ \n 
URL:https://lift.uvt.ro/event/shades-of-meaning-translation-contest8th-edition/
LOCATION:Universitatea de Vest din Timișoara\, Bd. Vasile Pârvan\, nr. 4\, Timișoara\, Timiș\, 300223\, Romania
CATEGORIES:Extracurricular
ORGANIZER;CN="Eliza Filimon":MAILTO:eliza.filimon@e-uvt.ro
END:VEVENT
END:VCALENDAR