BEGIN:VCALENDAR
VERSION:2.0
PRODID:-//Facultatea de Litere, Istorie, Filosofie și Teologie - ECPv6.15.14//NONSGML v1.0//EN
CALSCALE:GREGORIAN
METHOD:PUBLISH
X-WR-CALNAME:Facultatea de Litere, Istorie, Filosofie și Teologie
X-ORIGINAL-URL:https://lift.uvt.ro
X-WR-CALDESC:Evenimente pentru Facultatea de Litere, Istorie, Filosofie și Teologie
REFRESH-INTERVAL;VALUE=DURATION:PT1H
X-Robots-Tag:noindex
X-PUBLISHED-TTL:PT1H
BEGIN:VTIMEZONE
TZID:Europe/Moscow
BEGIN:STANDARD
TZOFFSETFROM:+0300
TZOFFSETTO:+0300
TZNAME:MSK
DTSTART:20240101T000000
END:STANDARD
END:VTIMEZONE
BEGIN:VEVENT
DTSTART;TZID=Europe/Moscow:20250224T162000
DTEND;TZID=Europe/Moscow:20250602T175000
DTSTAMP:20260422T033454
CREATED:20250312T073344Z
LAST-MODIFIED:20250312T073344Z
UID:14173-1740414000-1748886600@lift.uvt.ro
SUMMARY:Cerc de filosofie indiană Luni\, 16:20 - 17:50\, Sala P13 (Oituz)
DESCRIPTION:
URL:https://lift.uvt.ro/event/cerc-de-filosofie-indiana-luni-1620-1750-sala-p13-oituz/
LOCATION:Sala P13 (Oituz)
CATEGORIES:Extracurricular
END:VEVENT
BEGIN:VEVENT
DTSTART;TZID=Europe/Moscow:20250228T130000
DTEND;TZID=Europe/Moscow:20250607T143000
DTSTAMP:20260422T033454
CREATED:20250312T073137Z
LAST-MODIFIED:20250312T073137Z
UID:14169-1740747600-1749306600@lift.uvt.ro
SUMMARY:Cerc de limba greacă vecheVineri\, 13:00 - 14:30\, Sala 204
DESCRIPTION:
URL:https://lift.uvt.ro/event/cerc-de-limba-greaca-vechevineri-1300-1430-sala-204/
LOCATION:Sala 204
CATEGORIES:Extracurricular
END:VEVENT
BEGIN:VEVENT
DTSTART;TZID=Europe/Moscow:20250319T180000
DTEND;TZID=Europe/Moscow:20250319T193000
DTSTAMP:20260422T033454
CREATED:20250313T111732Z
LAST-MODIFIED:20250313T112307Z
UID:14222-1742407200-1742412600@lift.uvt.ro
SUMMARY:RATIO FACILIS vs RATIO DIFFICILIS. [Ești ceea ce citești.]
DESCRIPTION:RATIO FACILIS vs RATIO DIFFICILIS. [Ești ceea ce citești.]\n4 seminare dedicate citirii\, pornind de la afiș ca discurs și obiect estetic.\nPentru studenții LMA de anul III și nu numai\, interesați de traducere și discursuri complexe.\n\n\n Susținute de: Ovidiu Hrin.\n Când?: 19.03\, 02.04\, 16.04\, 07.05.\n Unde?: Sala 248\, UVT.\n De la ora: 18:00.\n Limba: română.\n Cuvânt de deschidere: Conf. univ. dr. Karla Lupșan\, Prodecan al Facultății de Litere\, Istorie\, Filosofie și Teologie.
URL:https://lift.uvt.ro/event/ratio-facilis-vs-ratio-difficilis-esti-ceea-ce-citesti/
LOCATION:Sala 248\, Universitatea de Vest din Timișoara\, Bd. Vasile Pârvan nr. 4\, Timișoara\, Timiș\, 300223\, Romania
CATEGORIES:Extracurricular
END:VEVENT
BEGIN:VEVENT
DTSTART;TZID=Europe/Moscow:20250321T100000
DTEND;TZID=Europe/Moscow:20250322T160000
DTSTAMP:20260422T033454
CREATED:20250221T084147Z
LAST-MODIFIED:20250319T080113Z
UID:13945-1742551200-1742659200@lift.uvt.ro
SUMMARY:CIEFT 2025RACINE(S)XVIIIe Colloque International d’Études Francophones Université de l’Ouest de Timişoara
DESCRIPTION:PROGRAMME\nAppel à communications
URL:https://lift.uvt.ro/event/cieft-2025racinesxviiie-colloque-international-detudes-francophones-universite-de-louest-de-timisoara/
LOCATION:Amfiteatrul A01\, Universitatea de Vest din Timișoara
CATEGORIES:Extracurricular
END:VEVENT
BEGIN:VEVENT
DTSTART;TZID=Europe/Moscow:20250324T080000
DTEND;TZID=Europe/Moscow:20250328T180000
DTSTAMP:20260422T033454
CREATED:20250304T085609Z
LAST-MODIFIED:20250318T094013Z
UID:14105-1742803200-1743184800@lift.uvt.ro
SUMMARY:UNITABlended Intensive ProgrammeTRANSLATING IN UNITED EUROPE
DESCRIPTION:AGENDA\n  \n  \n 
URL:https://lift.uvt.ro/event/blended-intensive-programmetranslating-in-united-europe/
LOCATION:Universitatea de Vest din Timișoara\, Bd. Vasile Pârvan\, nr. 4\, Timișoara\, Timiș\, 300223\, Romania
CATEGORIES:Evenimente Științifice @ LIFT
END:VEVENT
BEGIN:VEVENT
DTSTART;TZID=Europe/Moscow:20250325T180000
DTEND;TZID=Europe/Moscow:20250325T193000
DTSTAMP:20260422T033454
CREATED:20250312T074019Z
LAST-MODIFIED:20250312T074339Z
UID:14180-1742925600-1742931000@lift.uvt.ro
SUMMARY:Lansarea cercului de lectură al studenților germaniști
DESCRIPTION:Cercul de lectură al studenților germaniști\nDe  ce să vii? Ești student la Germană și vrei să-ți îmbunătățești cunoștințele într-un mod distractiv\, interactiv și fără stres.\nCe te așteaptă? Cărți faine\, discuții cool\, seri de film&pizza\, atmosferă chill. \nCând? 25 martie 2025\, ora 18.00\nUnde? sala 202\n 
URL:https://lift.uvt.ro/event/cercul-de-lectura-al-studentilor-germanisti/
LOCATION:Sala 202
CATEGORIES:Extracurricular
END:VEVENT
BEGIN:VEVENT
DTSTART;TZID=Europe/Moscow:20250325T180000
DTEND;TZID=Europe/Moscow:20250701T193000
DTSTAMP:20260422T033454
CREATED:20250312T073605Z
LAST-MODIFIED:20250312T074315Z
UID:14177-1742925600-1751398200@lift.uvt.ro
SUMMARY:Cercul de lectură al studenților germaniștiMarțea\, de la 18:00\, sala 202
DESCRIPTION:Cercul de lectură al studenților germaniști\n \nDe  ce să vii? Ești student la Germană și vrei să-ți îmbunătățești cunoștințele într-un mod distractiv\, interactiv și fără stres.\nCe te așteaptă? Cărți faine\, discuții cool\, seri de film&pizza\, atmosferă chill. \nCând? Marțea\, de la 18:00\, sala 202.\n 
URL:https://lift.uvt.ro/event/cercul-de-lectura-al-studentilor-germanistimartea-de-la-1800-sala-202/
LOCATION:Sala 202
CATEGORIES:Extracurricular
END:VEVENT
BEGIN:VEVENT
DTSTART;TZID=Europe/Moscow:20250327T080000
DTEND;TZID=Europe/Moscow:20250327T093000
DTSTAMP:20260422T033454
CREATED:20250314T135155Z
LAST-MODIFIED:20250314T135155Z
UID:14238-1743062400-1743067800@lift.uvt.ro
SUMMARY:Workshop: Wahlen und Wahlbeteiligung der StudierendenAlegerile și participarea studenților la alegeri
DESCRIPTION:Workshop: Wahlen und Wahlbeteiligung der Studierenden/ Alegerile și participarea studenților la alegeri\nData: 27.03.2025\nOra: 8:00-9:30\nSala: 202\n 
URL:https://lift.uvt.ro/event/workshop-wahlen-und-wahlbeteiligung-der-studierendenalegerile-si-participarea-studentilor-la-alegeri/
LOCATION:Sala 202
CATEGORIES:Extracurricular
END:VEVENT
BEGIN:VEVENT
DTSTART;TZID=Europe/Moscow:20250402T180000
DTEND;TZID=Europe/Moscow:20250402T193000
DTSTAMP:20260422T033454
CREATED:20250313T111828Z
LAST-MODIFIED:20250313T112300Z
UID:14224-1743616800-1743622200@lift.uvt.ro
SUMMARY:RATIO FACILIS vs RATIO DIFFICILIS. [Ești ceea ce citești.]
DESCRIPTION:RATIO FACILIS vs RATIO DIFFICILIS. [Ești ceea ce citești.]\n4 seminare dedicate citirii\, pornind de la afiș ca discurs și obiect estetic.\nPentru studenții LMA de anul III și nu numai\, interesați de traducere și discursuri complexe.\n\n\n Susținute de: Ovidiu Hrin.\n Când?: 19.03\, 02.04\, 16.04\, 07.05.\n Unde?: Sala 248\, UVT.\n De la ora: 18:00.\n Limba: română.\n Cuvânt de deschidere: Conf. univ. dr. Karla Lupșan\, Prodecan al Facultății de Litere\, Istorie\, Filosofie și Teologie.
URL:https://lift.uvt.ro/event/ratio-facilis-vs-ratio-difficilis-esti-ceea-ce-citesti-2/
LOCATION:Sala 248\, Universitatea de Vest din Timișoara\, Bd. Vasile Pârvan nr. 4\, Timișoara\, Timiș\, 300223\, Romania
CATEGORIES:Extracurricular
END:VEVENT
BEGIN:VEVENT
DTSTART;TZID=Europe/Moscow:20250408T113000
DTEND;TZID=Europe/Moscow:20250408T130000
DTSTAMP:20260422T033454
CREATED:20250407T065813Z
LAST-MODIFIED:20250407T065813Z
UID:14496-1744111800-1744117200@lift.uvt.ro
SUMMARY:Atelier de LIMBĂ ȘI CIVILIZAȚIE ITALIANĂ
DESCRIPTION:
URL:https://lift.uvt.ro/event/atelier-de-limba-si-civilizatie-italiana/
LOCATION:Sala 330
CATEGORIES:Extracurricular
END:VEVENT
BEGIN:VEVENT
DTSTART;TZID=Europe/Moscow:20250411T080000
DTEND;TZID=Europe/Moscow:20250412T170000
DTSTAMP:20260422T033454
CREATED:20250128T085657Z
LAST-MODIFIED:20250401T101034Z
UID:13433-1744358400-1744477200@lift.uvt.ro
SUMMARY:The 29th Symposium of Students in English
DESCRIPTION:Call for papers\nProgramme\n 
URL:https://lift.uvt.ro/event/the-29th-symposium-of-students-in-english/
LOCATION:Universitatea de Vest din Timișoara\, Bd. Vasile Pârvan\, nr. 4\, Timișoara\, Timiș\, 300223\, Romania
CATEGORIES:Evenimente Științifice @ LIFT,Extracurricular
ORGANIZER;CN="Claudia Doroholschi":MAILTO:studentsymposium2025@gmail.com
END:VEVENT
BEGIN:VEVENT
DTSTART;TZID=Europe/Moscow:20250414T112000
DTEND;TZID=Europe/Moscow:20250414T130000
DTSTAMP:20260422T033454
CREATED:20250414T070737Z
LAST-MODIFIED:20250530T143208Z
UID:14535-1744629600-1744635600@lift.uvt.ro
SUMMARY:Atelier de limbă și cultură germană
DESCRIPTION:Atelier de limbă și cultură germană\nSala : 307\nOra: 11.20\nCoordonator: Lector univ. dr. Mihaela Șandor\n  \n\n \n \n  \n\n\n\n\n\n\n\n\n\n        \n            \n                                                \n\n                                        \n                        Atelier germ_5Atelier germ_1Atelier germ_2Atelier germ_3Atelier germ_4
URL:https://lift.uvt.ro/event/atelier-de-limba-si-cultura-germana/
LOCATION:Sala 307
CATEGORIES:Extracurricular
END:VEVENT
BEGIN:VEVENT
DTSTART;TZID=Europe/Moscow:20250416T180000
DTEND;TZID=Europe/Moscow:20250416T193000
DTSTAMP:20260422T033454
CREATED:20250313T111909Z
LAST-MODIFIED:20250313T111909Z
UID:14226-1744826400-1744831800@lift.uvt.ro
SUMMARY:RATIO FACILIS vs RATIO DIFFICILIS. [Ești ceea ce citești.]
DESCRIPTION:RATIO FACILIS vs RATIO DIFFICILIS. [Ești ceea ce citești.]\n4 seminare dedicate citirii\, pornind de la afiș ca discurs și obiect estetic.\nPentru studenții LMA de anul III și nu numai\, interesați de traducere și discursuri complexe.\n\n\n Susținute de: Ovidiu Hrin.\n Când?: 19.03\, 02.04\, 16.04\, 02.05\, 07.05.\n Unde?: Sala 248\, UVT.\n De la ora: 18:00.\n Limba: română.\n Cuvânt de deschidere: Conf. univ. dr. Karla Lupșan\, Prodecan al Facultății de Litere\, Istorie\, Filosofie și Teologie.
URL:https://lift.uvt.ro/event/ratio-facilis-vs-ratio-difficilis-esti-ceea-ce-citesti-3/
LOCATION:Sala 248\, Universitatea de Vest din Timișoara\, Bd. Vasile Pârvan nr. 4\, Timișoara\, Timiș\, 300223\, Romania
CATEGORIES:Extracurricular
END:VEVENT
BEGIN:VEVENT
DTSTART;TZID=Europe/Moscow:20250505T090000
DTEND;TZID=Europe/Moscow:20250509T190000
DTSTAMP:20260422T033454
CREATED:20250429T172854Z
LAST-MODIFIED:20250429T172854Z
UID:14556-1746435600-1746817200@lift.uvt.ro
SUMMARY:BLENDED INTENSIVE PROGRAMME (BIP)Déclinaisons du récit de soi chez les auteurs plurilingues
DESCRIPTION:PROGRAMME\n \n 
URL:https://lift.uvt.ro/event/blended-intensive-programme-bipdeclinaisons-du-recit-de-soi-chez-les-auteurs-plurilingues/
LOCATION:Universitatea de Vest din Timișoara\, Bd. Vasile Pârvan\, nr. 4\, Timișoara\, Timiș\, 300223\, Romania
CATEGORIES:Evenimente Științifice @ LIFT
END:VEVENT
BEGIN:VEVENT
DTSTART;TZID=Europe/Moscow:20250507T180000
DTEND;TZID=Europe/Moscow:20250507T193000
DTSTAMP:20260422T033454
CREATED:20250313T112215Z
LAST-MODIFIED:20250313T112215Z
UID:14228-1746640800-1746646200@lift.uvt.ro
SUMMARY:RATIO FACILIS vs RATIO DIFFICILIS. [Ești ceea ce citești.]
DESCRIPTION:RATIO FACILIS vs RATIO DIFFICILIS. [Ești ceea ce citești.]\n4 seminare dedicate citirii\, pornind de la afiș ca discurs și obiect estetic.\nPentru studenții LMA de anul III și nu numai\, interesați de traducere și discursuri complexe.\n\n\n Susținute de: Ovidiu Hrin.\n Când?: 19.03\, 02.04\, 16.04\, 07.05.\n Unde?: Sala 248\, UVT.\n De la ora: 18:00.\n Limba: română.\n Cuvânt de deschidere: Conf. univ. dr. Karla Lupșan\, Prodecan al Facultății de Litere\, Istorie\, Filosofie și Teologie.
URL:https://lift.uvt.ro/event/ratio-facilis-vs-ratio-difficilis-esti-ceea-ce-citesti-4/
LOCATION:Sala 248\, Universitatea de Vest din Timișoara\, Bd. Vasile Pârvan nr. 4\, Timișoara\, Timiș\, 300223\, Romania
CATEGORIES:Extracurricular
END:VEVENT
BEGIN:VEVENT
DTSTART;TZID=Europe/Moscow:20250508T130000
DTEND;TZID=Europe/Moscow:20250508T143000
DTSTAMP:20260422T033454
CREATED:20250505T095001Z
LAST-MODIFIED:20250505T095040Z
UID:14616-1746709200-1746714600@lift.uvt.ro
SUMMARY:ARHITECȚI (IN)VIZIBILI despre traducerea literară\, forța ei constructivă și percepția ei publicăCurs susținut de MIRELA IACOB
DESCRIPTION:  \nMIRELA IACOB este traducător\, interpret și muzician. Absolventă de Litere la UVT\, bursieră ArtsLink\, cu un master ECUMEST în management cultural. În traseul său profesional\, a punctat teatru și radio\, este textier pentru trupe rock și moderator de evenimente culturale. Membră ArtLit\, a tradus peste treizeci de volume (literatură\, artă\, filosofie). Cele mai recente: cataloagele Brauner și Brâncuși (Timișoara 2023 – Capitala Europeană a Culturii\, RO-EN) și Byung-Chul Han – Infocrația și Societatea oboselii (Editura Contrasens\, 2024\, DE-RO). Consideră că un bun traducător literar este\, înainte de toate\, un creator. \nCuvânt de deschidere: Conf. univ. dr. Karla Lupșan\, Prodecan al Facultății de Litere\, Istorie\, Filosofie și Teologie. \nUn eveniment din seria TRANSLATIO\, dedicată studenților germaniști și celor interesați de problematica traducerii.
URL:https://lift.uvt.ro/event/arhitecti-invizibili-despre-traducerea-literara-forta-ei-constructiva-si-perceptia-ei-publicacurs-sustinut-de-mirela-iacob/
LOCATION:Sala 248\, Universitatea de Vest din Timișoara\, Bd. Vasile Pârvan nr. 4\, Timișoara\, Timiș\, 300223\, Romania
CATEGORIES:Extracurricular
END:VEVENT
BEGIN:VEVENT
DTSTART;VALUE=DATE:20250510
DTEND;VALUE=DATE:20250511
DTSTAMP:20260422T033454
CREATED:20250508T125446Z
LAST-MODIFIED:20250515T053932Z
UID:14657-1746835200-1746921599@lift.uvt.ro
SUMMARY:Colocviu studenţesc de studii francophoneColloque estudiantin d’études francophones
DESCRIPTION:PROGRAM\n  \n \n 
URL:https://lift.uvt.ro/event/colocviu-studentesc-de-studii-francophone-colloque-estudiantin-detudes-francophones/
LOCATION:Online
CATEGORIES:Extracurricular
END:VEVENT
BEGIN:VEVENT
DTSTART;VALUE=DATE:20250515
DTEND;VALUE=DATE:20250516
DTSTAMP:20260422T033454
CREATED:20250509T130341Z
LAST-MODIFIED:20250509T130341Z
UID:14667-1747267200-1747353599@lift.uvt.ro
SUMMARY:CONVEGNO DEGLI STUDENTI ITALIANISTIITALIANITÀ E LATINITÀII EDIZIONE
DESCRIPTION:
URL:https://lift.uvt.ro/event/convegno-degli-studenti-italianistiitalianita-e-latinitaii-edizione/
LOCATION:Sala 248\, Universitatea de Vest din Timișoara\, Bd. Vasile Pârvan nr. 4\, Timișoara\, Timiș\, 300223\, Romania
CATEGORIES:Extracurricular
END:VEVENT
BEGIN:VEVENT
DTSTART;TZID=Europe/Moscow:20250519T080000
DTEND;TZID=Europe/Moscow:20250524T170000
DTSTAMP:20260422T033454
CREATED:20250519T115618Z
LAST-MODIFIED:20250519T115747Z
UID:14746-1747641600-1748106000@lift.uvt.ro
SUMMARY:ŞCOALA NON-FORMALĂ DE ARHEOLOGIE INTERDISCIPLINARĂ Ediția a IV-a
DESCRIPTION:PROGRAM\n 
URL:https://lift.uvt.ro/event/scoala-non-formala-de-arheologie-interdisciplinara-editia-a-iv-a/
LOCATION:Valea Alunului\, com. Boșorod\, jud. Hunedoara
CATEGORIES:Extracurricular
END:VEVENT
BEGIN:VEVENT
DTSTART;TZID=Europe/Moscow:20250523T080000
DTEND;TZID=Europe/Moscow:20250523T170000
DTSTAMP:20260422T033454
CREATED:20250522T081824Z
LAST-MODIFIED:20250522T081929Z
UID:14763-1747987200-1748019600@lift.uvt.ro
SUMMARY:The Semiotics of Gender Student ConferenceThe Inaugural Edition:The Semiotics of Gender Representation in Language and Literature
DESCRIPTION:Program\n 
URL:https://lift.uvt.ro/event/emthe-semiotics-of-gender-student-conferencethe-inaugural-editionthe-semiotics-of-gender-representation-in-language-and-literature/
LOCATION:Universitatea de Vest din Timișoara\, Bd. Vasile Pârvan\, nr. 4\, Timișoara\, Timiș\, 300223\, Romania
CATEGORIES:Extracurricular
END:VEVENT
BEGIN:VEVENT
DTSTART;TZID=Europe/Moscow:20250602T080000
DTEND;TZID=Europe/Moscow:20250606T170000
DTSTAMP:20260422T033454
CREATED:20241214T070221Z
LAST-MODIFIED:20250601T183554Z
UID:12854-1748851200-1749229200@lift.uvt.ro
SUMMARY:Terminology Summer School - TSS 2025TermNet - International Network for Terminology
DESCRIPTION:TSS 2025\n2-6 June\nHybrid: On-site in Timisoara (Romania)  and online \n  \nTSS Program\nTSS Trainers\n 
URL:https://lift.uvt.ro/event/terminology-summer-school-tss-2025termnet-international-network-for-terminology/
LOCATION:Universitatea de Vest din Timișoara\, Bd. Vasile Pârvan\, nr. 4\, Timișoara\, Timiș\, 300223\, Romania
CATEGORIES:Evenimente Științifice @ LIFT
END:VEVENT
BEGIN:VEVENT
DTSTART;TZID=Europe/Moscow:20250627T120000
DTEND;TZID=Europe/Moscow:20250627T140000
DTSTAMP:20260422T033454
CREATED:20250616T153536Z
LAST-MODIFIED:20250618T113929Z
UID:15047-1751025600-1751032800@lift.uvt.ro
SUMMARY:Festivitatea de premiere DeutscheLITe 2025
DESCRIPTION:Facultatea de Litere\, Istorie\, Teologie și Filosofie\, \nPrimăria Municipiului Timișoara – Compartimentul pentru Minorități și Relații Interetnice și \nRotary Club Timișoara Cosmopolitan \nau deosebita onoare de a vă invita  la festivitatea de premiere DeutscheLITe 2025 a studenților germaniști care s-au remarcat prin rezultate academice deosebite și prin implicarea în acțiuni de voluntariat pentru promovarea limbii și culturii germane. \n  \n \n  \nPremiile sunt oferite de Rotary Club Timișoara Cosmopolitan
URL:https://lift.uvt.ro/event/festivitatea-de-premiere-deutschelite-2025/
LOCATION:Amfiteatrul A11\, Universitatea de Vest din Timișoara\, Bd. Vasile Pârvan nr. 4\, Timișoara\, Timiș\, 300223
CATEGORIES:Evenimente Științifice @ LIFT,Extracurricular
END:VEVENT
BEGIN:VEVENT
DTSTART;VALUE=DATE:20250630
DTEND;VALUE=DATE:20250701
DTSTAMP:20260422T033454
CREATED:20250407T064823Z
LAST-MODIFIED:20250407T101940Z
UID:14486-1751241600-1751327999@lift.uvt.ro
SUMMARY:Call for papers / Invito / Appel / Convocatoria / Aufruf zu Beiträgen / Apel “Translationes” no. 17/2025 Translation from an intercultural perspective 
DESCRIPTION:Call for papers / Invito / Appel / Convocatoria / Aufruf zu Beiträgen / Apel
URL:https://lift.uvt.ro/event/call-for-papers-invito-appel-convocatoria-aufruf-zu-beitragen-apel-translationes-no-17-2025-translation-from-an-intercultural-perspective/
LOCATION:Universitatea de Vest din Timișoara\, Bd. Vasile Pârvan\, nr. 4\, Timișoara\, Timiș\, 300223\, Romania
CATEGORIES:Call for papers @ LIFT
END:VEVENT
BEGIN:VEVENT
DTSTART;TZID=Europe/Moscow:20250712T235900
DTEND;TZID=Europe/Moscow:20250712T235900
DTSTAMP:20260422T033454
CREATED:20250328T135207Z
LAST-MODIFIED:20250328T135916Z
UID:14388-1752364740-1752364740@lift.uvt.ro
SUMMARY:Încheierea procesului de înscriere online\, prin completarea datelor solicitate de către platforma de admitere a UVTLicență (Români de pretutindeni)
DESCRIPTION:
URL:https://lift.uvt.ro/event/incheierea-procesului-de-inscriere-online-prin-completarea-datelor-solicitate-de-catre-platforma-de-admitere-a-uvtlicenta-romani-de-pretutindeni/
LOCATION:Universitatea de Vest din Timișoara\, Bd. Vasile Pârvan\, nr. 4\, Timișoara\, Timiș\, 300223\, Romania
END:VEVENT
BEGIN:VEVENT
DTSTART;TZID=Europe/Moscow:20250908T200000
DTEND;TZID=Europe/Moscow:20250908T200000
DTSTAMP:20260422T033454
CREATED:20250328T140919Z
LAST-MODIFIED:20250827T050759Z
UID:14423-1757361600-1757361600@lift.uvt.ro
SUMMARY:Afișarea listelor cu candidații înscrișiLicență (Români de pretutindeni)
DESCRIPTION:
URL:https://lift.uvt.ro/event/licenta-romani-de-pretutindeni/
LOCATION:Universitatea de Vest din Timișoara\, Bd. Vasile Pârvan\, nr. 4\, Timișoara\, Timiș\, 300223\, Romania
END:VEVENT
BEGIN:VEVENT
DTSTART;TZID=Europe/Moscow:20250908T200000
DTEND;TZID=Europe/Moscow:20250909T200000
DTSTAMP:20260422T033454
CREATED:20250827T045955Z
LAST-MODIFIED:20250908T065324Z
UID:15566-1757361600-1757448000@lift.uvt.ro
SUMMARY:Perioada de depunere contestațiilorLicență (Români de pretutindeni)08.09.2025\, ora 20:00 – 09.09.2025\, ora 20:00Contestațiile se trimit pe adresa admitere.lift.@e-uvt.ro
DESCRIPTION:
URL:https://lift.uvt.ro/event/perioada-de-depunere-contestatiilorlicenta-romani-de-pretutindeni08-09-2025-ora-2000-09-09-2025-ora-2000/
LOCATION:Universitatea de Vest din Timișoara\, Bd. Vasile Pârvan\, nr. 4\, Timișoara\, Timiș\, 300223\, Romania
END:VEVENT
BEGIN:VEVENT
DTSTART;TZID=Europe/Moscow:20250910T110000
DTEND;TZID=Europe/Moscow:20250910T110000
DTSTAMP:20260422T033454
CREATED:20250827T050203Z
LAST-MODIFIED:20250827T050807Z
UID:15568-1757502000-1757502000@lift.uvt.ro
SUMMARY:Afișarea rezultatelor după soluționarea contestațiilorLicență (Români de pretutindeni)
DESCRIPTION:
URL:https://lift.uvt.ro/event/afisarea-rezultatelor-dupa-solutionarea-contestatiilorlicenta-romani-de-pretutindeni/
LOCATION:Universitatea de Vest din Timișoara\, Bd. Vasile Pârvan\, nr. 4\, Timișoara\, Timiș\, 300223\, Romania
END:VEVENT
BEGIN:VEVENT
DTSTART;VALUE=DATE:20251001
DTEND;VALUE=DATE:20251002
DTSTAMP:20260422T033454
CREATED:20250204T124548Z
LAST-MODIFIED:20250304T091001Z
UID:13602-1759276800-1759363199@lift.uvt.ro
SUMMARY:CALL FOR PAPERSBAS / BRITISH AND AMERICAN STUDIES JOURNAL 2026GOTHIC MATERNITIES:TRADITIONAL vs CURRENT VISIONS IN LITERATURE\,  CINEMA AND OTHER ARTS
DESCRIPTION:However\, as Adrienne Rich (1976) pointed out\, in contrast to more traditional motherhood\, which can be experienced as a patriarchal institution within this type of fiction\, motherhood defined and centered on women can be understood as an empowering experience for women\, which later paved the way for matricentric feminism (O’Reilly\, 2016). In short\, while motherhood as an institution is often a site of male-defined oppression\, women’s own maternal experiences can become a source of power (O’Reilly\, 2021). It is\, therefore\, essential to look into the representation of themes such as gestation\, childbirth\, breastfeeding\, and the physical\, psychological\, and emotional changes that the gestating mother undergoes after childbirth\, as well as the various forms of motherhood and gestating bodies (consider\, for instance\, the masterfully depicted confrontation between Sigourney Weaver and the creature in the 1979 movie Alien: The Eighth Passenger\, 1979). \nThe relationship between mothers and their progenies might be fraught with myriad uncertainties\, fears\, and sometimes outright hatred. These controversial aspects of childbearing\, childbirth\, and childrearing are addressed by countless unnatural creations\, violent births\, and terrified women—depicted as doubly vulnerable and trapped in situations of extreme danger (Harrington\, 2018: 87). This preoccupation with maternal fear and monstrosity aligns with the Gothic tradition’s continued engagement in the Othering of the mother (Carpenter 2016: 7)\, providing a compelling lens for exploring the uncanny and the abject (Arnold 2013; Creed 1993; Oliver 2012). As Kristeva suggests in Powers of Horror\, this process of othering reflects a deeper cultural anxiety; she (1982: 73) describes the ‘archaic mother’ as a force of ‘generative power’ that patrilineal structures try hard to suppress. As a consequence\, monstrous mothers—whether phallic\, castrating\, all-consuming\, and absent—populate the Gothic imagination\, from fiction to movies and video games. Yet\, despite their ubiquity\, this oppressive maternal figure has often gone unnoticed or deliberately ignored by scholars. Her existence resists traditional interpretations\, challenging the widely accepted idea of maternal instinct (Williams\, 2025: 1). \nMoreover\, contemporary Gothic art\, by allowing projection into other universes and times\, imagining various interpersonal relationships\, and questioning the boundaries of biology and gender\, inevitably engages with various visions of motherhood – some utopian\, while others\, dystopian – thus opening the door to the exploration of new possibilities. It is in this fertile terrain that\, in addition to the previously mentioned themes\, other pressing issues also find space for exploration\, such as reproductive biotechnology\, ectogenesis\, cloning\, xenobiology\, grafts with living beings or artificial entities\, microchimerism\, and a long list of others that current fiction seems eager to depict (Marinovich\, 1994: 189–205; Anolik\, 2003: 25–43). \nTherefore\, we invite writers\, researchers\, scholars\, and all those who wish to contribute to this volume dedicated to new visions of the Gothic. Or are they not so new? \n  \n  \nREFERENCES \nAllen\, Jeffner. 1984. “Motherhood: The Annihilation of Women” in Joyce Trebilcot (ed). Mothering: Essays in Feminist Theory. Lanham: Roman and Allanheld\, pp. 315–30. \nAnolik\, Ruth Bienstock. 2003. “The Missing Mother: The Meanings of Maternal Absence in the Gothic Mode” in  Modern Language Studies\, 33 (1/2)\, pp. 25–43. https://doi.org/10.2307/3195306 \nArnold\, Sarah. 2013. Maternal Horror Film: Melodrama and Motherhood. Basingstoke: Palgrave Macmillan. \nCarpenter\, Ginette. 2016. “Mothers and Others” in Avril Horner\, Sue Zlosnik\, Andrew Smith and William Hughes (eds.). Women and the Gothic: An Edinburgh Companion. Edinburgh: Edinburgh University Press\, pp. 44-59. \nCreed\, Barbara. 1993. The Monstrous-Feminine: Film\, Feminism\, Psychoanalysis. London: Routledge. \nFirestone\, Shulamith. 1970. The Dialectics of Sex: The Case for Feminist Revolution. New York: Morrow. \nHarrington\, Erin. 2018. Women\, Monstrosity and Horror Film: Gynaehorror. London: Routledge. \nKristeva\, Julia. 1982. Powers of Horror: An Essay on Abjection. Translated by L.S. Roudiez\, New York: Columbia University Press. \nMarinovich\, Sarolta. 1994. “The discourse of the other: Female gothic in contemporary women’s writing” in Neohelicon 21\, pp. 189–205. https://doi.org/10.1007/BF02093047 \nO’Reilly\, Andrea. 2016. Matricentric Feminism: Theory\, Activism\, and Practice. Coe Hill: Demeter Press. \nO’Reilly\, Andrea. 2021. Maternal Theory: The Essential Readings. Coe Hill: Demeter Press. \nOliver\, Kelly. 2012. Knock Me Up\, Knock Me Down: Images of Pregnancy in Hollywood Films. New York: Columbia University Press. \nRich\, Adrienne. 1976. Of Woman Born: Motherhood as Experience and Institution. New York: W.W. Norton. \nRuss\, Joanna. 2007. The Country You Have Never Seen: Essays and Reviews. Liverpool: Liverpool University Press. \nWilliams\, Sara. 2025. The Maternal Gaze in the Gothic. New York: Palgrave Macmillan. \n  \n  \nContributions on this topic should be submitted to bas.journal@gmail.com by 1 October 2025. They should observe the general instructions provided on the BAS site (https://bas.journals.uvt.ro/  Instructions to authors) \n  \nThe 2026 issue will also include\, as usual\, a chapter of papers on various linguistic issues.  \n  \nCall for papers (pdf version)\n  \n 
URL:https://lift.uvt.ro/event/call-for-papersbas-british-and-american-studies-journal-2026gothic-maternitiestraditional-vs-current-visions-in-literature-cinema-and-other-arts/
LOCATION:Universitatea de Vest din Timișoara\, Bd. Vasile Pârvan\, nr. 4\, Timișoara\, Timiș\, 300223\, Romania
CATEGORIES:Call for papers @ LIFT
END:VEVENT
BEGIN:VEVENT
DTSTART;TZID=Europe/Moscow:20251009T143000
DTEND;TZID=Europe/Moscow:20251009T160000
DTSTAMP:20260422T033454
CREATED:20251105T103137Z
LAST-MODIFIED:20251105T103137Z
UID:16432-1760020200-1760025600@lift.uvt.ro
SUMMARY:Dialog cu scriitorul și traducătorul Florin Bican - despre vârste mici și mari de-ale literaturii
DESCRIPTION:
URL:https://lift.uvt.ro/event/dialog-cu-scriitorul-si-traducatorul-florin-bican-despre-varste-mici-si-mari-de-ale-literaturii/
LOCATION:Sala 203
CATEGORIES:Extracurricular
END:VEVENT
BEGIN:VEVENT
DTSTART;TZID=Europe/Moscow:20251015T112000
DTEND;TZID=Europe/Moscow:20251015T130000
DTSTAMP:20260422T033454
CREATED:20251009T145433Z
LAST-MODIFIED:20251009T145556Z
UID:16282-1760527200-1760533200@lift.uvt.ro
SUMMARY:Workshop Zielgruppenorientiertes Schreiben
DESCRIPTION:Invitat: Siegfried Thiel\, Redaktionsleiter Banater Zeitung\nMiercuri\, 15 octombrie 2025\nOra: 11.20\nLocul: 205\nDescriere: Ziarul studențesc în limba germană LIT KOMPASS în colaborare cu OSUT organizează în cadrul STUDENTFEST workshopul de jurnalistică „Zielgruppenorientiertes Schreiben”. În cadrul acestui atelier vei învăța planificarea\, conceperea și scrierea unor texte jurnalistice\, adaptate la un anumit grup țintă de indivizi\, prin intermediul unor aplicații și prezentări realizate de colaboratorii de la FLIFT.\nProiect finanțat de Municipiul Timișoara prin @centruldeproiecte.
URL:https://lift.uvt.ro/event/workshop-zielgruppenorientiertes-schreiben/
LOCATION:Sala 205
CATEGORIES:Extracurricular
END:VEVENT
END:VCALENDAR