BEGIN:VCALENDAR
VERSION:2.0
PRODID:-//Facultatea de Litere, Istorie, Filosofie și Teologie - ECPv6.15.14//NONSGML v1.0//EN
CALSCALE:GREGORIAN
METHOD:PUBLISH
X-WR-CALNAME:Facultatea de Litere, Istorie, Filosofie și Teologie
X-ORIGINAL-URL:https://lift.uvt.ro
X-WR-CALDESC:Evenimente pentru Facultatea de Litere, Istorie, Filosofie și Teologie
REFRESH-INTERVAL;VALUE=DURATION:PT1H
X-Robots-Tag:noindex
X-PUBLISHED-TTL:PT1H
BEGIN:VTIMEZONE
TZID:Europe/Moscow
BEGIN:STANDARD
TZOFFSETFROM:+0300
TZOFFSETTO:+0300
TZNAME:MSK
DTSTART:20240101T000000
END:STANDARD
END:VTIMEZONE
BEGIN:VEVENT
DTSTART;TZID=Europe/Moscow:20251121T180000
DTEND;TZID=Europe/Moscow:20251121T193000
DTSTAMP:20260419T234557
CREATED:20251111T142706Z
LAST-MODIFIED:20251217T064556Z
UID:16480-1763748000-1763753400@lift.uvt.ro
SUMMARY:DRAMA!Theater between America and Asia: A comparative workshop
DESCRIPTION:Pe data de 21 noiembrie 2025\, ora 18\, sala 330\, CSAM – Centrul de Studii Americane/ American Studies Center LIT/ UVT (https://csam-uvt.e-uvt.ro/) a găzduit un workshop comparativ despre teatrul american și teatrul japonez\, la care invitați speciali au fost colegii și studenții de la Centrul de Studii Est-Asiatice (CSEA – https://csea.uvt.ro/). Organizatoarea activității a fost Derya Alim\, doctorandă și membră colaboratoare a Centrului de Studii Americane și cadru didactic asociat al programului de limba japoneză. Workshop-ul gândit drept spațiu al intersecțiilor creative a oferit un exemplu practic pentru modul în care Studiile Americane oferă o platformă de studiu și cercetare ce promovează perspective interdisciplinare și interculturale.\nÎn cadrul evenimentului\, participanții au discutat despre asemănări și deosebiri între originile și evoluția teatrului american și japonez\, felul în care implicarea și sprijinul liderilor militari și politici au influențat traiectoria celor două tipuri de teatru\, conexiunile dintre teatru\, religie și diferite evenimente sociale importante pentru populație\, ce alte arte au contribuit la evoluția teatrului\, norme estetice\, structuri și clasificări ale pieselor. S-a adus în discuție limbajul folosit în diverse feluri de piese\, felul în care traducerile afectează atât cultura care traduce\, cât și cea din care se traduce\, adaptări de piese\, reinterpretări și dramaturgii ce se inspiră din stilul celeilalte culturi-sursă. Studenții au pus întrebări relevante despre mecanismul socioeconomic în care se desfășoară teatrul\, integrarea femeilor în sfera teatrală\, motivația dramaturgilor de a scrie piese\, pregătirea actorilor\, dar și detalii tehnice despre scenă\, costume\, măști și lumini. De asemenea\, multe piese\, atât japoneze\, cât și americane\, consacrate și contemporane\, au fost aduse drept exemple\, recomandate și discutate de organizator și participanți.\n  \n  \nFacebook link \n 
URL:https://lift.uvt.ro/event/dramatheater-between-america-and-asia-a-comparative-workshop/
LOCATION:Sala 330
CATEGORIES:Extracurricular
END:VEVENT
BEGIN:VEVENT
DTSTART;TZID=Europe/Moscow:20251124T162000
DTEND;TZID=Europe/Moscow:20251124T175000
DTSTAMP:20260419T234557
CREATED:20251119T065344Z
LAST-MODIFIED:20251119T085212Z
UID:16944-1764001200-1764006600@lift.uvt.ro
SUMMARY:Concursul interuniversitar de limba englezăShades of Meaning 9th edition
DESCRIPTION:  \nThe annual translation contest ‘Shades of Meaning’\, organized by the English Department of the Faculty of Leters\, History and Theology of the West University of Timișoara offers students studying English at university a competitive framework for testing their literary and non-literary translation skills. \n  \nRegistration form (Deadline: November 19\, 2025)\nCall for participants & Competition regulations\nContest website
URL:https://lift.uvt.ro/event/shades-of-meaning-9th-edition/
LOCATION:Sala 203
CATEGORIES:Extracurricular
END:VEVENT
BEGIN:VEVENT
DTSTART;TZID=Europe/Moscow:20251124T180000
DTEND;TZID=Europe/Moscow:20251124T193000
DTSTAMP:20260419T234557
CREATED:20251119T084404Z
LAST-MODIFIED:20251119T084700Z
UID:16950-1764007200-1764012600@lift.uvt.ro
SUMMARY:Shifting a Joke: A Comedy Translation Workshop
DESCRIPTION:run by Theory and Practice of Translation MA students \nRobert M.\, Anamaria M.\, Eleni S. & Cristina P. \n  \n \n 
URL:https://lift.uvt.ro/event/shifting-a-joke-a-comedy-translation-workshop/
LOCATION:Sala 207
CATEGORIES:Extracurricular
END:VEVENT
BEGIN:VEVENT
DTSTART;TZID=Europe/Moscow:20251202T200000
DTEND;TZID=Europe/Moscow:20251202T220000
DTSTAMP:20260419T234557
CREATED:20251217T064920Z
LAST-MODIFIED:20251217T065305Z
UID:17376-1764705600-1764712800@lift.uvt.ro
SUMMARY:Language & Culture Café
DESCRIPTION:Vrei să exersezi franceza\, spaniola\, româna sau turca… fără stres?\n\n\nVino la Language & Culture Café\, eveniment organizat de Facultatea de Litere\, Istorie\, Filosofie și Teologie!\nVorbești\, asculți și interacționezi cu vorbitori nativi\, într-un cadru relaxat. \n\n\nLocurile sunt limitate\, așa că înscrie-te din timp!
URL:https://lift.uvt.ro/event/language-culture-cafe/
CATEGORIES:Extracurricular,LIFT Language & Culture Café
END:VEVENT
BEGIN:VEVENT
DTSTART;TZID=Europe/Moscow:20251209T170000
DTEND;TZID=Europe/Moscow:20251209T190000
DTSTAMP:20260419T234557
CREATED:20251217T065629Z
LAST-MODIFIED:20251217T065629Z
UID:17388-1765299600-1765306800@lift.uvt.ro
SUMMARY:🎉 Kick-off SINERGIA!
DESCRIPTION:Dăm startul Programului de mentorat lingvistic și integrare culturală SINERGIA\, o inițiativă în care studenți internaționali și studenți voluntari din UVT construiesc împreună punți între limbi\, culturi și experiențe.\n\n\nCe oferă Sinergia?\n mentorat lingvistic\n workshopuri interculturale\n activități de integrare culturală\n\n\n 9 decembrie 2025\n 17:00\n Amfiteatrul A01\, UVT\n\n\nVino la eveniment și află cum poți fi parte din program!
URL:https://lift.uvt.ro/event/%f0%9f%8e%89-kick-off-sinergia/
LOCATION:Amfiteatrul A01\, Universitatea de Vest din Timișoara
CATEGORIES:Extracurricular,SINERGIA
END:VEVENT
BEGIN:VEVENT
DTSTART;TZID=Europe/Moscow:20251210T094000
DTEND;TZID=Europe/Moscow:20251210T112000
DTSTAMP:20260419T234557
CREATED:20251127T093748Z
LAST-MODIFIED:20251127T093748Z
UID:17086-1765359600-1765365600@lift.uvt.ro
SUMMARY:Workshop Weihnachtstraditionen in den deutschsprachigen Ländern
DESCRIPTION:Data: 10.12.2025\, ora 9.40\, sala 203\nData: 17.12.2025\, ora 9.40\, sala 203\nCoordonator: Lector univ. dr. Alina Olenici-Crăciunescu\nE-Mail: alina.olenici@e-uvt.ro
URL:https://lift.uvt.ro/event/workshop-weihnachtstraditionen-in-den-deutschsprachigen-landern/
LOCATION:Sala 203
CATEGORIES:Extracurricular
END:VEVENT
BEGIN:VEVENT
DTSTART;TZID=Europe/Moscow:20251211T130000
DTEND;TZID=Europe/Moscow:20251211T143000
DTSTAMP:20260419T234557
CREATED:20251209T104945Z
LAST-MODIFIED:20251209T104945Z
UID:17187-1765458000-1765463400@lift.uvt.ro
SUMMARY:Workshop Der Jugendroman der neuen Sachlichkeit
DESCRIPTION:
URL:https://lift.uvt.ro/event/workshop-der-jugendroman-der-neuen-sachlichkeit/
LOCATION:Sala 248\, Universitatea de Vest din Timișoara\, Bd. Vasile Pârvan nr. 4\, Timișoara\, Timiș\, 300223\, Romania
CATEGORIES:Extracurricular
END:VEVENT
BEGIN:VEVENT
DTSTART;TZID=Europe/Moscow:20251211T170000
DTEND;TZID=Europe/Moscow:20251211T190000
DTSTAMP:20260419T234557
CREATED:20251217T070541Z
LAST-MODIFIED:20251217T071306Z
UID:17406-1765472400-1765479600@lift.uvt.ro
SUMMARY:Un nou eveniment special din ciclul „Ambasadori în dialog @UVT”: Marija Kapitanović\, Ambasadorul Republicii Croația în România\, într-un dialog pe tema „Diplomație prin limbă și cultură”
DESCRIPTION:Universitatea de Vest din Timișoara a inițiat seria „Ambasadori în dialog @UVT”\, reluând\, într-un nou cadru de dialog\, tradiția programului „Ambasadori la UVT”. \nÎn cadrul primei ediții a acestei serii\, prin implicarea Facultății de Litere\, Istorie\, Filosofie și Teologie\, ne-a onorat cu prezența Excelența Sa Marija Kapitanović\, Ambasadorul Republicii Croația în România\, care a intrat în dialog pe tema „Diplomație prin limbă și cultură” cu Petru Hațegan\, lector de limba croată la UVT\, și Petar Radosavljević\, conferențiar la Universitatea din Zagreb. Discuția a fost moderată de prof. univ. dr. Dana Percec\, decanul Facultății de Litere\, Istorie\, Filosofie și Teologie. \nEvenimentul a oferit participanților oportunitatea de a descoperi perspective diverse asupra rolului limbii și culturii în relațiile internaționale\, subliniind importanța educației ca instrument al diplomației culturale și al cooperării academice. \nMomentele cultural-artistice susținute pe parcursul evenimentului de invitați din Croația – Siniša Matasović\, Anna Komarytsia\, Sanja Domenuš\, Branko Tompić și Danko Tomanić – au oferit evenimentului o notă distinctă\, completând dimensiunea culturală a dialogului și oferind totodată o concretizare firească a ideilor exprimate în legătură cu importanța diplomației prin limbă și cultură. \nRectorul UVT\, Marilen Gabriel Pirtea: „În cadrul seriei de evenimente binecunoscută publicului din comunitatea noastră\, am reluat dezbaterile dedicate diplomației academice\, în care sunt invitați la dialog în amfiteatrele UVT personalități și lideri majori ai mediului inetrnațional\, ambasadori și experți din corpul diplomatic. UVT își consolidează astfel rolul de hub academic internațional\, unde limbile\, culturile și ideile se întâlnesc pentru a construi punți între comunități.” \n  \n \n 
URL:https://lift.uvt.ro/event/un-nou-eveniment-special-din-ciclul-ambasadori-in-dialog-uvt-marija-kapitanovic-ambasadorul-republicii-croatia-in-romania-intr-un-dialog-pe-tema-diplomatie-prin-limba-si/
CATEGORIES:Ambasadori în dialog @UVT,Evenimente Științifice @ LIFT,Extracurricular
END:VEVENT
BEGIN:VEVENT
DTSTART;TZID=Europe/Moscow:20251212T080000
DTEND;TZID=Europe/Moscow:20251212T170000
DTSTAMP:20260419T234557
CREATED:20251118T131949Z
LAST-MODIFIED:20251119T064842Z
UID:16933-1765526400-1765558800@lift.uvt.ro
SUMMARY:Conferința studenților germaniști Der Mensch und seine Masken
DESCRIPTION:  \nContact: \nLector OeAD Christoph Flechl\, cristoph.flechl@e-uvt.ro \nLector dr. Gabriela Șandor\, gabriela.sandor@e-uvt.ro \n  \nCall for papers
URL:https://lift.uvt.ro/event/conferinta-studentilor-germanisti-der-mensch-und-seine-masken/
LOCATION:Sala: A11 și 248
CATEGORIES:Extracurricular
END:VEVENT
BEGIN:VEVENT
DTSTART;TZID=Europe/Moscow:20251213T100000
DTEND;TZID=Europe/Moscow:20251213T140000
DTSTAMP:20260419T234557
CREATED:20251209T090453Z
LAST-MODIFIED:20251211T061012Z
UID:17109-1765620000-1765634400@lift.uvt.ro
SUMMARY:Colocviul Literacum X
DESCRIPTION:Facultatea de Litere\, Istorie\, Filosofie și Teologie și Centrul Studențesc de Cercetare Literacum  \nvă invită la cea de-a X-a ediție a \nColocviului Literacum – Canonul literar românesc: tradiție\, contestare\, reevaluare \nLa finalul evenimentului va fi lansat și un număr nou al revistei Literacum. \nCoordonatori: lect. dr. Roxana Rogobete\, asist. dr. Irina Dincă\, asist. drd. Oana Gogoșeanu \nMai multe informații: www.literacum.ro \nProgram \n\n \n 
URL:https://lift.uvt.ro/event/colocviul-literacum-x/
LOCATION:Sala Rotonda\, Str. Oituz nr. 4
CATEGORIES:Evenimente Științifice @ LIFT,Extracurricular
END:VEVENT
BEGIN:VEVENT
DTSTART;TZID=Europe/Moscow:20251216T100000
DTEND;TZID=Europe/Moscow:20251216T120000
DTSTAMP:20260419T234557
CREATED:20251217T071106Z
LAST-MODIFIED:20251217T071106Z
UID:17412-1765879200-1765886400@lift.uvt.ro
SUMMARY:Ambasadori în dialog @UVT: E.S. Ulla Krauss-Nussbaumer\, Ambasadorul Austriei în România
DESCRIPTION:Universitatea de Vest din Timișoara vă invită la un nou eveniment din seria dedicată dialogului diplomatic și conectării mediului academic cu lideri internaționali. \nTema întâlnirii: ”30 years of Austria in the European Union”\nInvitată specială: Excelența Sa Ulla Krauss-Nussbaumer\, Ambasadorul Austriei în România. \nÎn cadrul discuției\, vor fi explorate evoluția Austriei în cadrul Uniunii Europene\, contribuțiile acesteia la proiectul european\, provocările și direcțiile de viitor ale cooperării europene. Evenimentul reprezintă o oportunitate valoroasă pentru studenți\, cadre didactice și publicul interesat să înțeleagă mai bine dinamica relațiilor europene și rolul diplomației în consolidarea acestora. \nModerator: Lect. univ. dr. Gabriel Kohn \nVă așteptăm marți\, 16 decembrie\, de la ora 10:00\, pentru o conversație deschisă și inspirațională cu una dintre personalitățile diplomatice importante ale Europei de astăzi. \n  \n 
URL:https://lift.uvt.ro/event/ambasadori-in-dialog-uvt-e-s-ulla-krauss-nussbaumer-ambasadorul-austriei-in-romania/
CATEGORIES:Ambasadori în dialog @UVT,Evenimente Științifice @ LIFT,Extracurricular
END:VEVENT
BEGIN:VEVENT
DTSTART;TZID=Europe/Moscow:20251217T094000
DTEND;TZID=Europe/Moscow:20251217T112000
DTSTAMP:20260419T234557
CREATED:20251127T093817Z
LAST-MODIFIED:20251127T093817Z
UID:17089-1765964400-1765970400@lift.uvt.ro
SUMMARY:Workshop Weihnachtstraditionen in den deutschsprachigen Ländern
DESCRIPTION:Data: 10.12.2025\, ora 9.40\, sala 203\nData: 17.12.2025\, ora 9.40\, sala 203\nCoordonator: Lector univ. dr. Alina Olenici-Crăciunescu\nE-Mail: alina.olenici@e-uvt.ro
URL:https://lift.uvt.ro/event/workshop-weihnachtstraditionen-in-den-deutschsprachigen-landern-2/
LOCATION:Sala 203
CATEGORIES:Extracurricular
END:VEVENT
BEGIN:VEVENT
DTSTART;TZID=Europe/Moscow:20260108T144000
DTEND;TZID=Europe/Moscow:20260108T175000
DTSTAMP:20260419T234557
CREATED:20251222T073252Z
LAST-MODIFIED:20251222T073435Z
UID:17464-1767883200-1767894600@lift.uvt.ro
SUMMARY:Workshopul “Games in the Didactic Process. Designing Didactic Games”\, 8-9 ianuarie 2026 (day 1)
DESCRIPTION:Cu mare plăcere vă invităm să participați la workshopul organizat în cadrul proiectului\nintitulat „Studii românești central-europene”\, programul Agenției Naționale de Schimb Academic\n(NAWA) finanțat din fonduri europene și derulat în parteneriat cu Universitatea Jagiellonă din\nCracovia și Universitatea de Vest din Timișoara.\nWorkshopul este organizat de către cadrele didactice ale Universității Jagiellone – dr. Anna\nOczko\, Departamentul de Limba Română și dr. Łukasz Hajduk\, Centrul de Studii de Pedagogie\nSocială și a Adulților în colaborare cu Education&Animation Center. \n  \nProgram
URL:https://lift.uvt.ro/event/workshopul-games-in-the-didactic-process-designing-didactic-games-8-9-ianuarie-2026/
LOCATION:Sala 101
CATEGORIES:Evenimente Științifice @ LIFT
END:VEVENT
BEGIN:VEVENT
DTSTART;TZID=Europe/Moscow:20260109T144000
DTEND;TZID=Europe/Moscow:20260109T175000
DTSTAMP:20260419T234557
CREATED:20251222T073514Z
LAST-MODIFIED:20251222T073514Z
UID:17469-1767969600-1767981000@lift.uvt.ro
SUMMARY:Workshopul “Games in the Didactic Process. Designing Didactic Games”\, 8-9 ianuarie 2026 (day 2)
DESCRIPTION:Cu mare plăcere vă invităm să participați la workshopul organizat în cadrul proiectului\nintitulat „Studii românești central-europene”\, programul Agenției Naționale de Schimb Academic\n(NAWA) finanțat din fonduri europene și derulat în parteneriat cu Universitatea Jagiellonă din\nCracovia și Universitatea de Vest din Timișoara.\nWorkshopul este organizat de către cadrele didactice ale Universității Jagiellone – dr. Anna\nOczko\, Departamentul de Limba Română și dr. Łukasz Hajduk\, Centrul de Studii de Pedagogie\nSocială și a Adulților în colaborare cu Education&Animation Center. \n  \nProgram
URL:https://lift.uvt.ro/event/workshopul-games-in-the-didactic-process-designing-didactic-games-8-9-ianuarie-2026-day-2/
LOCATION:Sala 101
CATEGORIES:Evenimente Științifice @ LIFT
END:VEVENT
BEGIN:VEVENT
DTSTART;VALUE=DATE:20260110
DTEND;VALUE=DATE:20260113
DTSTAMP:20260419T234557
CREATED:20260112T122654Z
LAST-MODIFIED:20260112T122654Z
UID:17537-1768003200-1768262399@lift.uvt.ro
SUMMARY:Culturile lumii la UVT - SERBIA
DESCRIPTION:
URL:https://lift.uvt.ro/event/culturile-lumii-la-uvt-serbia/
LOCATION:Universitatea de Vest din Timișoara\, Bd. Vasile Pârvan\, nr. 4\, Timișoara\, Timiș\, 300223\, Romania
CATEGORIES:Culturile lumii la UVT
END:VEVENT
BEGIN:VEVENT
DTSTART;TZID=Europe/Moscow:20260110T150000
DTEND;TZID=Europe/Moscow:20260110T170000
DTSTAMP:20260419T234557
CREATED:20260112T123134Z
LAST-MODIFIED:20260112T123600Z
UID:17549-1768057200-1768064400@lift.uvt.ro
SUMMARY:Culturile lumii la UVT - SERBIA: Dansuri sârbești
DESCRIPTION:
URL:https://lift.uvt.ro/event/culturile-lumii-la-uvt-serbia-dansuri-sarbesti/
LOCATION:Aula Magna a Universității de Vest din Timișoara\, Bd. Vasile Pârvan 4\, Timișoara\, Timiș\, 300223\, Romania
CATEGORIES:Culturile lumii la UVT,Extracurricular
END:VEVENT
BEGIN:VEVENT
DTSTART;TZID=Europe/Moscow:20260112T112000
DTEND;TZID=Europe/Moscow:20260112T125000
DTSTAMP:20260419T234557
CREATED:20251228T081238Z
LAST-MODIFIED:20251228T081331Z
UID:17487-1768216800-1768222200@lift.uvt.ro
SUMMARY:Andrea Bajani - L'anniversarioCircolo Letterario
DESCRIPTION:Presentano gli studenti del III anno \n 
URL:https://lift.uvt.ro/event/andrea-bajani-lanniversariocircolo-letterario/
LOCATION:Sala 701\, Sediul central UVT\, Bd. Vasile Pârvan 4\, Timișoara\, Timiș\, 300223\, Romania
CATEGORIES:Extracurricular
END:VEVENT
BEGIN:VEVENT
DTSTART;TZID=Europe/Moscow:20260112T140000
DTEND;TZID=Europe/Moscow:20260112T160000
DTSTAMP:20260419T234557
CREATED:20260112T123714Z
LAST-MODIFIED:20260112T123714Z
UID:17553-1768226400-1768233600@lift.uvt.ro
SUMMARY:Culturile lumii la UVT - SERBIA: Datini și colinde pe rit vechi
DESCRIPTION:
URL:https://lift.uvt.ro/event/culturile-lumii-la-uvt-serbia-datini-si-colinde-pe-rit-vechi/
LOCATION:Amfiteatrul A01\, Universitatea de Vest din Timișoara
CATEGORIES:Culturile lumii la UVT,Extracurricular
END:VEVENT
BEGIN:VEVENT
DTSTART;TZID=Europe/Moscow:20260314T094000
DTEND;TZID=Europe/Moscow:20260314T111000
DTSTAMP:20260419T234557
CREATED:20260227T161925Z
LAST-MODIFIED:20260227T162051Z
UID:17986-1773481200-1773486600@lift.uvt.ro
SUMMARY:Gwendolyn Brooks: The Poetics and Politics of "Cool"
DESCRIPTION:  \n  \nSpeaker: Fulbright ETA May HONG\, Universitatea „Lucian Blaga”\, Sibiu\nTema: Gwendolyn Brooks: The Poetics and Politics of „Cool”\n14.03.2026\, 9.40-11.10\, Amfiteatrul A12\, UVT
URL:https://lift.uvt.ro/event/gwendolyn-brooks-the-poetics-and-politics-of-cool/
LOCATION:Amfiteatrul A12\, Universitatea de Vest din Timișoara
CATEGORIES:Extracurricular
END:VEVENT
BEGIN:VEVENT
DTSTART;VALUE=DATE:20260315
DTEND;VALUE=DATE:20260316
DTSTAMP:20260419T234557
CREATED:20250129T072818Z
LAST-MODIFIED:20251210T145209Z
UID:13526-1773532800-1773619199@lift.uvt.ro
SUMMARY:Termenul limită de înscriere pentru Concursul internațional La Pléiade (lb. franceză)
DESCRIPTION:Afișarea rezultatelor: \n3 aprilie 2026 (rezultate preliminare)\n6 aprilie2028 (rezultate finale) \nPremierea: 10 aprilie – 1 mai 2026 \n  \nRegulament concurs \nApel la participare \nFormular de înscriere \n  \n \n  \n 
URL:https://lift.uvt.ro/event/termenul-limita-de-inscriere-pentru-concursul-international-la-pleiade-lb-franceza/
LOCATION:Universitatea de Vest din Timișoara\, Bd. Vasile Pârvan\, nr. 4\, Timișoara\, Timiș\, 300223\, Romania
CATEGORIES:Concursuri LIFT pentru elevi
END:VEVENT
BEGIN:VEVENT
DTSTART;TZID=Europe/Moscow:20260320T081500
DTEND;TZID=Europe/Moscow:20260320T143000
DTSTAMP:20260419T234557
CREATED:20260313T065231Z
LAST-MODIFIED:20260313T065231Z
UID:18211-1773994500-1774017000@lift.uvt.ro
SUMMARY:CSAM OPEN DAY
DESCRIPTION:
URL:https://lift.uvt.ro/event/csam-open-day/
LOCATION:Sala 164\, Sediul UVT\, Bd. Vasile Pârvan4\, Timisoara\, Timis\, 300223\, Romania
CATEGORIES:Extracurricular
END:VEVENT
BEGIN:VEVENT
DTSTART;TZID=Europe/Moscow:20260320T100000
DTEND;TZID=Europe/Moscow:20260321T180000
DTSTAMP:20260419T234557
CREATED:20260310T073958Z
LAST-MODIFIED:20260313T064743Z
UID:18191-1774000800-1774116000@lift.uvt.ro
SUMMARY:Colloque International d'études francophones CIEFT XIX/2026
DESCRIPTION:format hibrid: online si fizic
URL:https://lift.uvt.ro/event/cieft2026/
LOCATION:Sala 701\, Sediul central UVT\, Bd. Vasile Pârvan 4\, Timișoara\, Timiș\, 300223\, Romania
CATEGORIES:Evenimente Științifice @ LIFT
ORGANIZER;CN="Colectivul de francez%C4%83 al LIFT%2C Centrul de Studii Romanice CSRT%2C%C2%A0Persoana responsabila%3A Prof.univ.dr.habil. Ramona Malita":MAILTO:ramona.malita@e-uvt.ro
END:VEVENT
BEGIN:VEVENT
DTSTART;VALUE=DATE:20260330
DTEND;VALUE=DATE:20260331
DTSTAMP:20260419T234557
CREATED:20260206T132142Z
LAST-MODIFIED:20260206T132149Z
UID:17846-1774828800-1774915199@lift.uvt.ro
SUMMARY:Termenul limită de înscriere pentru TransCreAzioneI Edizione 2026Concorso di traduzione letteraria per studenti universitari
DESCRIPTION:ISCRIZIONE E PARTECIPAZIONE\n 
URL:https://lift.uvt.ro/event/termenul-limita-de-inscriere-pentru-transcreazionei-edizione-2026concorso-di-traduzione-letteraria-per-studenti-universitari/
CATEGORIES:Extracurricular
END:VEVENT
BEGIN:VEVENT
DTSTART;VALUE=DATE:20260330
DTEND;VALUE=DATE:20260331
DTSTAMP:20260419T234557
CREATED:20250129T072139Z
LAST-MODIFIED:20251210T150421Z
UID:13515-1774828800-1774915199@lift.uvt.ro
SUMMARY:Termenul limită de înscriere pentru Concursul național Scriviamo in italiano (lb. italiană)
DESCRIPTION:Afișarea rezultatelor: \n27.05.2026 (rezulatate preliminare)\n29.05.2026 (rezultate finale) \nPremierea: 15 iunie – 20 iunie 2026 \n  \nRegulament concurs \nText literar Carlo Collodi – Le avventure di Pinocchio \nFormular de înscriere
URL:https://lift.uvt.ro/event/termenul-limita-de-inscriere-pentru-concursul-national-scriviamo-in-italiano-lb-italiana/
LOCATION:Universitatea de Vest din Timișoara\, Bd. Vasile Pârvan\, nr. 4\, Timișoara\, Timiș\, 300223\, Romania
CATEGORIES:Concursuri LIFT pentru elevi
END:VEVENT
BEGIN:VEVENT
DTSTART;VALUE=DATE:20260331
DTEND;VALUE=DATE:20260401
DTSTAMP:20260419T234557
CREATED:20250129T074016Z
LAST-MODIFIED:20251210T152328Z
UID:13556-1774915200-1775001599@lift.uvt.ro
SUMMARY:Termenul limită de înscriere pentru Concursului internațional de literatură și limbă spaniolă pentru elevi El español y el mundo
DESCRIPTION:Afișarea rezultatelor:  \n19.04.2026 (rezultate preliminare) \n22.04.2026 (rezultate finale) \nPremierea: 23 aprilie – 20 mai 2026 \n  \nRegulament \nFormular de înscriere \nApel la participare
URL:https://lift.uvt.ro/event/termenul-limita-de-inscriere-pentru-concursului-international-de-literatura-si-limba-spaniola-pentru-elevi-el-espanol-y-el-mundo/
LOCATION:Universitatea de Vest din Timișoara\, Bd. Vasile Pârvan\, nr. 4\, Timișoara\, Timiș\, 300223\, Romania
CATEGORIES:Concursuri LIFT pentru elevi
END:VEVENT
BEGIN:VEVENT
DTSTART;TZID=Europe/Moscow:20260402T130000
DTEND;TZID=Europe/Moscow:20260402T143000
DTSTAMP:20260419T234557
CREATED:20260328T094700Z
LAST-MODIFIED:20260416T084901Z
UID:18266-1775134800-1775140200@lift.uvt.ro
SUMMARY:The Theory and Practice of Translation MA series: Atelier de dublaj Fun to dub «Voice-acting series»
DESCRIPTION:Elevii clasei a VIII-a ai Wendhill Academy International School\, Timișoara\, coordonați de Prof. Mery Bărbuți\, sunt invitații studenților programului masteral Teoria și Practica Traducerii în cadrul unui atelier de dublaj de film. \nOrganizați în echipe de instructori de dublaj\,\nstudenții Andrei Balogh\, Bianca Brăștin\, Natalia Cuza\, Ovidiu Gherghinuță\, Cristin Hacichian\, Robert Marcu\, Alexandru Nicola\, Andreea Trif\, Patricia Vișan\nvor îndruma grupul de elevi participanți în interpretarea și localizarea vocală a unor scene din animația Total Drama (2007\, creatori Tom McGillisJennifer Pertsch). \nCoordonator sesiune de dublaj Conf. univ. dr. Eliza Filimon; Organizatori Conf. univ. dr. Eliza Filimon\, Lector univ. dr. Adrian Cîntar \n  \n 
URL:https://lift.uvt.ro/event/the-theory-and-practice-of-translation-ma-seriesatelier-de-dublaj-fun-to-dub/
LOCATION:Sala 329\, Sediul central al Universității de Vest din Timișoara\, Bd. Vasile Pârvan 4\, Timișoara\, Timiș\, 300223\, Romania
CATEGORIES:Extracurricular
END:VEVENT
BEGIN:VEVENT
DTSTART;VALUE=DATE:20260403
DTEND;VALUE=DATE:20260404
DTSTAMP:20260419T234557
CREATED:20250129T065420Z
LAST-MODIFIED:20251210T150547Z
UID:13481-1775174400-1775260799@lift.uvt.ro
SUMMARY:Termenul limită de înscriere pentru Concursul național Deutsche Sprache und Kultur (lb. germană)
DESCRIPTION:Afișarea rezultatelor: \n12 mai 2026 (rezultate preliminare)\n14 mai 2026 (rezultate finale) \nPremierea: 18 mai – 29 mai 2026 \n  \nRegulament concurs \nFormular de înscriere \nCriterii evaluare \nApel la participare
URL:https://lift.uvt.ro/event/termenul-limita-de-inscriere-pentru-concursul-national-deutsche-sprache-und-kultur-lb-germana/
LOCATION:Universitatea de Vest din Timișoara\, Bd. Vasile Pârvan\, nr. 4\, Timișoara\, Timiș\, 300223\, Romania
CATEGORIES:Concursuri LIFT pentru elevi
END:VEVENT
BEGIN:VEVENT
DTSTART;TZID=Europe/Moscow:20260416T130000
DTEND;TZID=Europe/Moscow:20260416T143000
DTSTAMP:20260419T234557
CREATED:20260416T084750Z
LAST-MODIFIED:20260416T084750Z
UID:18349-1776344400-1776349800@lift.uvt.ro
SUMMARY:Cercul de lectură al studenților germaniști / Lesekreis
DESCRIPTION: În data de 16  aprilie revenim împreună cu studenții și cadrele didactice de la FLIFT cu un cerc de lectura in liba germană. \nJoi\, 16 aprilie 2026\nOra: 13.00\nSala: 203/308\n 
URL:https://lift.uvt.ro/event/cercul-de-lectura-al-studentilor-germanisti-lesekreis/
LOCATION:Sala 203 / 308
CATEGORIES:Extracurricular
END:VEVENT
BEGIN:VEVENT
DTSTART;TZID=Europe/Moscow:20260418T094000
DTEND;TZID=Europe/Moscow:20260418T111000
DTSTAMP:20260419T234557
CREATED:20260416T085059Z
LAST-MODIFIED:20260416T085333Z
UID:18355-1776505200-1776510600@lift.uvt.ro
SUMMARY:CSAM - The FULBRIGHT LECTURES: The Legacy of the Harlem Renaissance. 1926-2026\, Speaker: Erika BALDT\, PhD\, Professor\, Rowan College at Burlington County
DESCRIPTION:Speaker: Erika BALDT\, PhD\, Professor\, Rowan College at Burlington County\nFulbright Scholar\, University of Bucharest\nTema: The Legacy of the Harlem Renaissance. 1926-2026.\nData\, ora\, loc: 18.04.2026\, 9.40-11.10\, Amfiteatrul A12\, UVT
URL:https://lift.uvt.ro/event/the-legacy-of-the-harlem-renaissance-1926-2026/
LOCATION:Amfiteatrul A12\, Universitatea de Vest din Timișoara
CATEGORIES:Extracurricular
END:VEVENT
BEGIN:VEVENT
DTSTART;VALUE=DATE:20260420
DTEND;VALUE=DATE:20260421
DTSTAMP:20260419T234557
CREATED:20250129T073139Z
LAST-MODIFIED:20260401T165323Z
UID:13531-1776643200-1776729599@lift.uvt.ro
SUMMARY:Termenul limită de înscriere pentru Concursul internațional de limba și cultura japoneză Japan\, the Cool and I (lb. engleză)
DESCRIPTION:Afișarea rezultatelor: \n9 mai 2026 (rezultate preliminare) \n10 mai 2026 (rezultate finale) \nPremierea: 10 mai 2026 \n  \nCompetition webpage within the Center for East Asian Studies website \nRegulament concurs \nFormular de înscriere \n 
URL:https://lift.uvt.ro/event/termenul-limita-de-inscriere-pentru-concursul-international-de-limba-si-cultura-japoneza-japan-the-cool-and-i-lb-engleza/
LOCATION:Universitatea de Vest din Timișoara\, Bd. Vasile Pârvan\, nr. 4\, Timișoara\, Timiș\, 300223\, Romania
CATEGORIES:Concursuri LIFT pentru elevi
END:VEVENT
END:VCALENDAR