BEGIN:VCALENDAR
VERSION:2.0
PRODID:-//Facultatea de Litere, Istorie, Filosofie și Teologie - ECPv6.15.14//NONSGML v1.0//EN
CALSCALE:GREGORIAN
METHOD:PUBLISH
X-ORIGINAL-URL:https://lift.uvt.ro
X-WR-CALDESC:Evenimente pentru Facultatea de Litere, Istorie, Filosofie și Teologie
REFRESH-INTERVAL;VALUE=DURATION:PT1H
X-Robots-Tag:noindex
X-PUBLISHED-TTL:PT1H
BEGIN:VTIMEZONE
TZID:Europe/Moscow
BEGIN:STANDARD
TZOFFSETFROM:+0300
TZOFFSETTO:+0300
TZNAME:MSK
DTSTART:20230101T000000
END:STANDARD
END:VTIMEZONE
BEGIN:VEVENT
DTSTART;TZID=Europe/Moscow:20241107T080000
DTEND;TZID=Europe/Moscow:20241109T170000
DTSTAMP:20260422T084306
CREATED:20241101T082928Z
LAST-MODIFIED:20250304T091538Z
UID:12136-1730966400-1731171600@lift.uvt.ro
SUMMARY:International Conference The Dialogue between SCIENCE\, THEOLOGY\, and PHILOSOPHY (2nd edition) with the theme of “MEDICINE AND SPIRITUALITY”
DESCRIPTION:Titles\, abstracts & bibliographic notes\nProgramme\n“Medicine and Spirituality” – SCIENCE\, THEOLOGY\, and PHILOSOPHY (2nd edition)\n \n  \n 
URL:https://lift.uvt.ro/event/international-conference-the-dialogue-between-science-theology-and-philosophy-2nd-editionwith-the-theme-of-medicine-and-spirituality/
LOCATION:Universitatea de Vest din Timișoara\, Bd. Vasile Pârvan\, nr. 4\, Timișoara\, Timiș\, 300223\, Romania
CATEGORIES:Evenimente Științifice @ LIFT
END:VEVENT
BEGIN:VEVENT
DTSTART;TZID=Europe/Moscow:20241111T080000
DTEND;TZID=Europe/Moscow:20241113T170000
DTSTAMP:20260422T084306
CREATED:20241109T191642Z
LAST-MODIFIED:20250304T091435Z
UID:12216-1731312000-1731517200@lift.uvt.ro
SUMMARY:The 4th International Symposium on Biblical Exegesis
DESCRIPTION:link: meet.google.com/odx-xyvt-ktr (online)\nWhere? Timișoara\, Romania\, UVT\, Department of History\, Theology and Philosophy.\nWhen? 11–12 November 2024.\nWhat’s in store? “The reception of Bethlehem (“the city of David”) in the Holy Scripture and Judeo-Christian literature (up to the 5th–6th century AD).”\nWho is responsible for this? Rev. Fr. Lecturer Ioan Mihoc (PhD); Rev. Fr. Lecturer Iosif Stancovici (PhD); Maria Cioată (PhD).\nThe timetable with everything you need to know \nThe booklet with speakers\n 
URL:https://lift.uvt.ro/event/isbe2024/
LOCATION:Facultatea de Litere\, Istorie\, Filosofie și Teologie – spațiu Oituz\, Strada Oituz nr. 4\, Timișoara\, Timiș
CATEGORIES:Evenimente Științifice @ LIFT
END:VEVENT
BEGIN:VEVENT
DTSTART;TZID=Europe/Moscow:20241111T100000
DTEND;TZID=Europe/Moscow:20241111T150000
DTSTAMP:20260422T084306
CREATED:20241007T153359Z
LAST-MODIFIED:20250304T091415Z
UID:11899-1731319200-1731337200@lift.uvt.ro
SUMMARY:Shades of Meaning translation contest8th edition
DESCRIPTION:  \n  \nCompetition regulations \nCall for participants \nRegistration form \n  \nContest website: http://shadesofmeaning.uvt.ro/ \n 
URL:https://lift.uvt.ro/event/shades-of-meaning-translation-contest8th-edition/
LOCATION:Universitatea de Vest din Timișoara\, Bd. Vasile Pârvan\, nr. 4\, Timișoara\, Timiș\, 300223\, Romania
CATEGORIES:Extracurricular
ORGANIZER;CN="Eliza Filimon":MAILTO:eliza.filimon@e-uvt.ro
END:VEVENT
BEGIN:VEVENT
DTSTART;TZID=Europe/Moscow:20241114T162000
DTEND;TZID=Europe/Moscow:20241114T180000
DTSTAMP:20260422T084306
CREATED:20241106T050534Z
LAST-MODIFIED:20250304T091409Z
UID:12177-1731601200-1731607200@lift.uvt.ro
SUMMARY:The Fulbright Lectures series:Matthew MyersFrom Page to Frame: How Cinematographers Bring Scripts to LifeFor American & Translation Studies MA Students
DESCRIPTION:
URL:https://lift.uvt.ro/event/matthew-myersfrom-page-to-frame-how-cinematographers-bring-scripts-to-life-for-american-and-translation-studies-ma-students/
LOCATION:Sala 206
CATEGORIES:Extracurricular
END:VEVENT
BEGIN:VEVENT
DTSTART;TZID=Europe/Moscow:20241115T130000
DTEND;TZID=Europe/Moscow:20241115T143000
DTSTAMP:20260422T084306
CREATED:20241114T143417Z
LAST-MODIFIED:20250304T091402Z
UID:12353-1731675600-1731681000@lift.uvt.ro
SUMMARY:The Fulbright Lectures series:Matthew MyersFrom Page to Frame: How Cinematographers Bring Scripts to LifeFor American & Translation Studies MA Students
DESCRIPTION:
URL:https://lift.uvt.ro/event/the-fulbright-lectures-seriesmatthew-myersfrom-page-to-frame-how-cinematographers-bring-scripts-to-lifefor-american-translation-studies-ma-students-15noi2024/
LOCATION:Sala 206
CATEGORIES:Extracurricular
END:VEVENT
BEGIN:VEVENT
DTSTART;TZID=Europe/Moscow:20241115T150000
DTEND;TZID=Europe/Moscow:20241115T160000
DTSTAMP:20260422T084306
CREATED:20241116T063253Z
LAST-MODIFIED:20250304T091353Z
UID:12411-1731682800-1731686400@lift.uvt.ro
SUMMARY:Lansare: Scrisori către un tânăr timișoreanAudiobook după corespondența dintre Franz Xaver Kappus și Rainer Maria Rilke
DESCRIPTION:Cuvânt de deschidere:\nProdecan conf. univ. dr.\nKarla Lupșan\nFacultatea de Litere\, Istorie\, Filosofie și Teologie\n 
URL:https://lift.uvt.ro/event/lansare-scrisori-catre-un-tanar-timisoreanaudiobook-dupa-corespondenta-dintre-franz-xaver-kappus-si-rainer-maria-rilke/
LOCATION:Amfiteatrul A01\, Universitatea de Vest din Timișoara
CATEGORIES:Extracurricular
END:VEVENT
BEGIN:VEVENT
DTSTART;TZID=Europe/Moscow:20241120T143000
DTEND;TZID=Europe/Moscow:20241120T153000
DTSTAMP:20260422T084306
CREATED:20241119T102636Z
LAST-MODIFIED:20250304T091345Z
UID:12482-1732113000-1732116600@lift.uvt.ro
SUMMARY:Erasmus+ @ WUTGUEST LECTURE Mitul și lumea secularizatăProf. univ. dr. Mariana DanFacultatea de Filologie\, Universitatea din Belgrad
DESCRIPTION:
URL:https://lift.uvt.ro/event/erasmus-wutguest-lecture-mitul-si-lumea-secularizataprof-univ-dr-mariana-danfacultatea-de-filologie-universitatea-din-belgrad/
LOCATION:Aula Bibliotecii Centrale Universitare „Eugen Todoran” din Timișoara
CATEGORIES:Visiting@WUT
END:VEVENT
BEGIN:VEVENT
DTSTART;TZID=Europe/Moscow:20241121T140000
DTEND;TZID=Europe/Moscow:20241121T190000
DTSTAMP:20260422T084306
CREATED:20241119T083834Z
LAST-MODIFIED:20250304T091517Z
UID:12458-1732197600-1732215600@lift.uvt.ro
SUMMARY:Ziua Mondială a Filosofiei
DESCRIPTION:
URL:https://lift.uvt.ro/event/ziua-mondiala-a-filosofiei/
LOCATION:Sala Rotonda\, Str. Oituz nr. 4
CATEGORIES:Evenimente Științifice @ LIFT
END:VEVENT
BEGIN:VEVENT
DTSTART;TZID=Europe/Moscow:20241121T180000
DTEND;TZID=Europe/Moscow:20241122T190000
DTSTAMP:20260422T084306
CREATED:20241114T181151Z
LAST-MODIFIED:20250304T091255Z
UID:12383-1732212000-1732302000@lift.uvt.ro
SUMMARY:Conferința internațională a studenților doctoranzi din domeniul Științelor umanisteDespre creștinism ca împlinire vs. transumanism ca depășire (tehnologică) a umanului. Repere antropologice
DESCRIPTION:Conference Programme\n \n 
URL:https://lift.uvt.ro/event/conferinta-internationala-a-studentilor-doctoranzi-din-domeniul-stiintelor-umanistesectiunile-filologie-istorie-teologie-filosofie/
CATEGORIES:Evenimente Științifice @ LIFT
END:VEVENT
BEGIN:VEVENT
DTSTART;TZID=Europe/Moscow:20241121T180000
DTEND;TZID=Europe/Moscow:20241122T190000
DTSTAMP:20260422T084306
CREATED:20241114T181330Z
LAST-MODIFIED:20250304T091249Z
UID:12386-1732212000-1732302000@lift.uvt.ro
SUMMARY:Conferința internațională a studenților doctoranzi din domeniul Științelor umanisteBeyond and After Humanism - The Transition from the Fourth to the Fifth Industrial Revolution
DESCRIPTION:Conference Programme
URL:https://lift.uvt.ro/event/conferinta-internationala-a-studentilor-doctoranzi-din-domeniul-stiintelor-umanistese/
CATEGORIES:Evenimente Științifice @ LIFT
END:VEVENT
BEGIN:VEVENT
DTSTART;TZID=Europe/Moscow:20241123T094000
DTEND;TZID=Europe/Moscow:20241123T111000
DTSTAMP:20260422T084306
CREATED:20241112T085221Z
LAST-MODIFIED:20250304T091232Z
UID:12234-1732354800-1732360200@lift.uvt.ro
SUMMARY:The Fulbright Lectures series:May HongPostmodern Alienation and Absurdism in George Saunders's Sticks
DESCRIPTION:
URL:https://lift.uvt.ro/event/the-fulbright-lectures-seriesmay-hongpost-modern-alienation-and-absurdism-in-george-saunders-sticks/
LOCATION:Amfiteatrul A12\, Universitatea de Vest din Timișoara
CATEGORIES:Extracurricular
END:VEVENT
BEGIN:VEVENT
DTSTART;TZID=Europe/Moscow:20241125T080000
DTEND;TZID=Europe/Moscow:20241129T170000
DTSTAMP:20260422T084306
CREATED:20241125T063113Z
LAST-MODIFIED:20250304T091226Z
UID:12562-1732521600-1732899600@lift.uvt.ro
SUMMARY:Seminario di traduzione specialistica:TRADURRE IL PATRIMONIO CULTURALE
DESCRIPTION:PROGRAM / PROGRAMMA\n  \n 
URL:https://lift.uvt.ro/event/seminar-international-de-traducere-cu-tematraducerea-patrimoniului-culturalseminar-de-traducere-specializata-organizat-in-parteneriat-cu-universitatea-din-torino/
LOCATION:Universitatea de Vest din Timișoara\, Bd. Vasile Pârvan\, nr. 4\, Timișoara\, Timiș\, 300223\, Romania
CATEGORIES:Extracurricular
END:VEVENT
BEGIN:VEVENT
DTSTART;TZID=Europe/Moscow:20241125T144000
DTEND;TZID=Europe/Moscow:20241125T162000
DTSTAMP:20260422T084306
CREATED:20241119T082902Z
LAST-MODIFIED:20250304T091216Z
UID:12448-1732545600-1732551600@lift.uvt.ro
SUMMARY:Atelier de traducereTraducere și Re(tro)traducereInvitat: Ildikó Gábos-Foarță
DESCRIPTION:Moderator: Lector univ. dr. Gabriel Kohn\, Colectivul de limba și literatura germană\nCuvânt de deschidere: Conf. univ. dr. Karla Lupșan\, Prodecan al Facultății de Litere\, Istorie\, Filosofie și Teologie
URL:https://lift.uvt.ro/event/atelier-de-traduceretraducere-si-retrotraducereinvitat-ildiko-gabos-foarta/
LOCATION:Sala 248\, Universitatea de Vest din Timișoara\, Bd. Vasile Pârvan nr. 4\, Timișoara\, Timiș\, 300223\, Romania
CATEGORIES:Extracurricular
END:VEVENT
BEGIN:VEVENT
DTSTART;TZID=Europe/Moscow:20241128T093000
DTEND;TZID=Europe/Moscow:20241129T180000
DTSTAMP:20260422T084306
CREATED:20241127T065841Z
LAST-MODIFIED:20250304T091209Z
UID:12580-1732786200-1732903200@lift.uvt.ro
SUMMARY:12e édition du colloque CODFREURCORTradition et innovation dans les recherches en sciences humaines
DESCRIPTION:Programme du colloque\n \n 
URL:https://lift.uvt.ro/event/12e-edition-du-colloque-codfreurcor/
LOCATION:Universitatea de Vest din Timișoara\, Bd. Vasile Pârvan\, nr. 4\, Timișoara\, Timiș\, 300223\, Romania
CATEGORIES:Evenimente Științifice @ LIFT
END:VEVENT
BEGIN:VEVENT
DTSTART;TZID=Europe/Moscow:20241128T144000
DTEND;TZID=Europe/Moscow:20241128T161000
DTSTAMP:20260422T084306
CREATED:20240927T123943Z
LAST-MODIFIED:20250401T190055Z
UID:11736-1732804800-1732810200@lift.uvt.ro
SUMMARY:The Theory and Practice of Translation MA series:Dr. Joel SnyderAudio Description: If Your Eyes Could Speak
DESCRIPTION:Dr. Joel Snyder is known internationally as one of the world’s first “audio describers”\, a pioneer in the field of Audio Description. Since 1981\, he has introduced audio description techniques in over 40 states and 64 countries and has made thousands of live events\, media projects and museums accessible. Dr. Snyder was named a Fulbright Scholar to train audio describers in Greece and Ukraine over a four-week period in 2019. \nIn 2014\, the American Council of the Blind published Dr. Snyder’s book\, The Visual Made Verbal – A Comprehensive Training Manual and Guide to the History and Applications of Audio Description\, now available as an audio book and in Braille from the Library of Congress\, in screen reader accessible formats\, and in English\, Polish\, Russian\, Portuguese\, Spanish\, Chinese and Italian print editions. His PhD is from the Universitat Autonoma de Barcelona with a focus on audiovisual translation/audio description. Dr. Snyder is the President of Audio Description Associates\, LLC (www.audiodescribe.com) and he serves as the Founding Director Emeritus of the Audio Description Project of the American Council of the Blind (https://adp.acb.org). \nUpdate: On November 14\, Dr. Joel Snyder from Audio Description Associates\, LLC received the Audio Description Visionary Award at the 2024 Audio Description Awards Gala from The American Council of the Blind. \n  \n  \n \n  \n  \n  \n \n  \n  \nThe West University of Timisoara is playing an active role in developing materials on audio description as a partner in the Erasmus+ project “AVTIA – Audiovisual Translation for Inclusion and Accessibility” 2024-1-RO01-KA220-HED-000249675 with Eliza Filimon\, Adrian Cîntar and Valentina Mureșan as team members.
URL:https://lift.uvt.ro/event/audio-description-if-your-eyes-could-speakdr-joel-snyder/
LOCATION:Sala 248\, Universitatea de Vest din Timișoara\, Bd. Vasile Pârvan nr. 4\, Timișoara\, Timiș\, 300223\, Romania
CATEGORIES:Extracurricular
ORGANIZER;CN="Eliza Filimon":MAILTO:eliza.filimon@e-uvt.ro
END:VEVENT
BEGIN:VEVENT
DTSTART;TZID=Europe/Moscow:20241206T170000
DTEND;TZID=Europe/Moscow:20241206T180000
DTSTAMP:20260422T084306
CREATED:20241203T095939Z
LAST-MODIFIED:20250304T091201Z
UID:12618-1733504400-1733508000@lift.uvt.ro
SUMMARY:300 Years of Immanuel KantKant: 300 de ani de la naștere
DESCRIPTION:În premieră în România\, s-a lansat genul stand-up philosophy\, printr-o reprezentație cu o actriță amatoare\, Andra Bireescu\, absolventă a programelor de studii de Filosofie (licență și master) și actualmente studentă în anul al III-lea de studii\, la programul de studii de licență Limbă și literatură (română-engleză) din cadrul Facultății de Litere\, Istorie\, Filosofie și Teologie. Monologul „Kant și bustul de ghips hidos”\, conceput de prof. univ. dr. habil. Florin Lobonț\, a fost bine primit și apreciat de public. Evenimentul este o nouă dovadă că Filosofia are un potențial uriaș de a sparge orice bariere.\n\n\n\n  \n  \n \nStand-up philosophy: Kant și bustul de ghips hidos \nAutor: prof. univ. dr. habil Florin Lobonț \nInterpretare: Andra Bireescu\, studentă anul III LL \n  \n 
URL:https://lift.uvt.ro/event/300-years-of-immanuel-kantkant-300-de-ani-de-la-nastere/
LOCATION:Facultatea de Litere\, Istorie\, Filosofie și Teologie\, sediul din str. Oituz nr. 4
CATEGORIES:Extracurricular
END:VEVENT
BEGIN:VEVENT
DTSTART;TZID=Europe/Moscow:20241209T180000
DTEND;TZID=Europe/Moscow:20241209T190000
DTSTAMP:20260422T084306
CREATED:20241204T201619Z
LAST-MODIFIED:20250304T091153Z
UID:12706-1733767200-1733770800@lift.uvt.ro
SUMMARY:C.A.R.E. EXHIBITIONConnection and Awareness Through Refugees' Experiences
DESCRIPTION:
URL:https://lift.uvt.ro/event/c-a-r-e-exhibitionconnection-and-awareness-through-refugees-experiences/
LOCATION:1st Floor\, in front of Aula Magna\, UVT
CATEGORIES:Extracurricular
END:VEVENT
BEGIN:VEVENT
DTSTART;TZID=Europe/Moscow:20241212T170000
DTEND;TZID=Europe/Moscow:20241212T180000
DTSTAMP:20260422T084306
CREATED:20241210T041821Z
LAST-MODIFIED:20250304T091146Z
UID:12717-1734022800-1734026400@lift.uvt.ro
SUMMARY:Întâlnirile FLIFT: Etica Ortodoxă. Dezbateri social-teologiceRadu Preda\, Universitatea „Babeș-Bolyai”Cluj-Napoca
DESCRIPTION:
URL:https://lift.uvt.ro/event/intalnirile-fliftetica-ortodoxa-dezbateri-social-teologiceradu-preda-universitatea-babes-bolyaicluj-napoca/
LOCATION:Sala Rotonda\, Str. Oituz nr. 4
CATEGORIES:Extracurricular
END:VEVENT
BEGIN:VEVENT
DTSTART;TZID=Europe/Moscow:20241213T080000
DTEND;TZID=Europe/Moscow:20241213T170000
DTSTAMP:20260422T084306
CREATED:20241210T042320Z
LAST-MODIFIED:20250304T091138Z
UID:12724-1734076800-1734109200@lift.uvt.ro
SUMMARY:Der Mensch und seine WeltStudententagung
DESCRIPTION:
URL:https://lift.uvt.ro/event/der-mensch-und-seine-weltstudententagung/
LOCATION:Universitatea de Vest din Timișoara\, Bd. Vasile Pârvan\, nr. 4\, Timișoara\, Timiș\, 300223\, Romania
CATEGORIES:Extracurricular
END:VEVENT
BEGIN:VEVENT
DTSTART;TZID=Europe/Moscow:20250114T163000
DTEND;TZID=Europe/Moscow:20250114T180000
DTSTAMP:20260422T084306
CREATED:20250110T070052Z
LAST-MODIFIED:20250304T091520Z
UID:12965-1736872200-1736877600@lift.uvt.ro
SUMMARY:Conferința „Violența de gen împotriva femeilor”organizată de FLIFT UVT în colaborare cu organizațiile OeAD și Tineri pentru Tineri
DESCRIPTION:„RESPECTĂ-MĂ!” – un mesaj puternic împotriva violenței de gen.\nAlăturați-vă unei discuții despre modul în care putem combate violența împotriva femeilor și despre importanța respectului și egalității în societatea noastră\n  \n\n Marți\, 14 ianuarie 2025\n UVT\, Bd. V. Pârvan nr. 4\, Sala 248\n Ora 16:30\n Moderator: Christoph Flechl\n Invitați:\nAlexandra Miroslav\nVictor Vlăduț\n 
URL:https://lift.uvt.ro/event/conferinta-violenta-de-gen-impotriva-femeilororganizata-de-flift-uvt-in-colaborare-cu-organizatiile-oead-si-tineri-pentru-tineri/
LOCATION:Sala 248\, Universitatea de Vest din Timișoara\, Bd. Vasile Pârvan nr. 4\, Timișoara\, Timiș\, 300223\, Romania
CATEGORIES:Evenimente Științifice @ LIFT
END:VEVENT
BEGIN:VEVENT
DTSTART;TZID=Europe/Moscow:20250115T113000
DTEND;TZID=Europe/Moscow:20250115T123000
DTSTAMP:20260422T084306
CREATED:20250108T140133Z
LAST-MODIFIED:20250128T084107Z
UID:12942-1736940600-1736944200@lift.uvt.ro
SUMMARY:WORKSHOP Siegfried Thiel\, RedaktionsleiterJOURNALISTISCHE GATTUNGEN UND IHRE EIGENHEITEN
DESCRIPTION:
URL:https://lift.uvt.ro/event/workshopjournalistische-gattungen-und-ihre-eigenheiten/
LOCATION:Sala 164\, Sediul UVT\, Bd. Vasile Pârvan4\, Timisoara\, Timis\, 300223\, Romania
CATEGORIES:Extracurricular
END:VEVENT
BEGIN:VEVENT
DTSTART;TZID=Europe/Moscow:20250224T162000
DTEND;TZID=Europe/Moscow:20250602T175000
DTSTAMP:20260422T084306
CREATED:20250312T073344Z
LAST-MODIFIED:20250312T073344Z
UID:14173-1740414000-1748886600@lift.uvt.ro
SUMMARY:Cerc de filosofie indiană Luni\, 16:20 - 17:50\, Sala P13 (Oituz)
DESCRIPTION:
URL:https://lift.uvt.ro/event/cerc-de-filosofie-indiana-luni-1620-1750-sala-p13-oituz/
LOCATION:Sala P13 (Oituz)
CATEGORIES:Extracurricular
END:VEVENT
BEGIN:VEVENT
DTSTART;TZID=Europe/Moscow:20250228T130000
DTEND;TZID=Europe/Moscow:20250607T143000
DTSTAMP:20260422T084306
CREATED:20250312T073137Z
LAST-MODIFIED:20250312T073137Z
UID:14169-1740747600-1749306600@lift.uvt.ro
SUMMARY:Cerc de limba greacă vecheVineri\, 13:00 - 14:30\, Sala 204
DESCRIPTION:
URL:https://lift.uvt.ro/event/cerc-de-limba-greaca-vechevineri-1300-1430-sala-204/
LOCATION:Sala 204
CATEGORIES:Extracurricular
END:VEVENT
BEGIN:VEVENT
DTSTART;TZID=Europe/Moscow:20250319T180000
DTEND;TZID=Europe/Moscow:20250319T193000
DTSTAMP:20260422T084306
CREATED:20250313T111732Z
LAST-MODIFIED:20250313T112307Z
UID:14222-1742407200-1742412600@lift.uvt.ro
SUMMARY:RATIO FACILIS vs RATIO DIFFICILIS. [Ești ceea ce citești.]
DESCRIPTION:RATIO FACILIS vs RATIO DIFFICILIS. [Ești ceea ce citești.]\n4 seminare dedicate citirii\, pornind de la afiș ca discurs și obiect estetic.\nPentru studenții LMA de anul III și nu numai\, interesați de traducere și discursuri complexe.\n\n\n Susținute de: Ovidiu Hrin.\n Când?: 19.03\, 02.04\, 16.04\, 07.05.\n Unde?: Sala 248\, UVT.\n De la ora: 18:00.\n Limba: română.\n Cuvânt de deschidere: Conf. univ. dr. Karla Lupșan\, Prodecan al Facultății de Litere\, Istorie\, Filosofie și Teologie.
URL:https://lift.uvt.ro/event/ratio-facilis-vs-ratio-difficilis-esti-ceea-ce-citesti/
LOCATION:Sala 248\, Universitatea de Vest din Timișoara\, Bd. Vasile Pârvan nr. 4\, Timișoara\, Timiș\, 300223\, Romania
CATEGORIES:Extracurricular
END:VEVENT
BEGIN:VEVENT
DTSTART;TZID=Europe/Moscow:20250321T100000
DTEND;TZID=Europe/Moscow:20250322T160000
DTSTAMP:20260422T084306
CREATED:20250221T084147Z
LAST-MODIFIED:20250319T080113Z
UID:13945-1742551200-1742659200@lift.uvt.ro
SUMMARY:CIEFT 2025RACINE(S)XVIIIe Colloque International d’Études Francophones Université de l’Ouest de Timişoara
DESCRIPTION:PROGRAMME\nAppel à communications
URL:https://lift.uvt.ro/event/cieft-2025racinesxviiie-colloque-international-detudes-francophones-universite-de-louest-de-timisoara/
LOCATION:Amfiteatrul A01\, Universitatea de Vest din Timișoara
CATEGORIES:Extracurricular
END:VEVENT
BEGIN:VEVENT
DTSTART;TZID=Europe/Moscow:20250324T080000
DTEND;TZID=Europe/Moscow:20250328T180000
DTSTAMP:20260422T084306
CREATED:20250304T085609Z
LAST-MODIFIED:20250318T094013Z
UID:14105-1742803200-1743184800@lift.uvt.ro
SUMMARY:UNITABlended Intensive ProgrammeTRANSLATING IN UNITED EUROPE
DESCRIPTION:AGENDA\n  \n  \n 
URL:https://lift.uvt.ro/event/blended-intensive-programmetranslating-in-united-europe/
LOCATION:Universitatea de Vest din Timișoara\, Bd. Vasile Pârvan\, nr. 4\, Timișoara\, Timiș\, 300223\, Romania
CATEGORIES:Evenimente Științifice @ LIFT
END:VEVENT
BEGIN:VEVENT
DTSTART;TZID=Europe/Moscow:20250325T180000
DTEND;TZID=Europe/Moscow:20250325T193000
DTSTAMP:20260422T084306
CREATED:20250312T074019Z
LAST-MODIFIED:20250312T074339Z
UID:14180-1742925600-1742931000@lift.uvt.ro
SUMMARY:Lansarea cercului de lectură al studenților germaniști
DESCRIPTION:Cercul de lectură al studenților germaniști\nDe  ce să vii? Ești student la Germană și vrei să-ți îmbunătățești cunoștințele într-un mod distractiv\, interactiv și fără stres.\nCe te așteaptă? Cărți faine\, discuții cool\, seri de film&pizza\, atmosferă chill. \nCând? 25 martie 2025\, ora 18.00\nUnde? sala 202\n 
URL:https://lift.uvt.ro/event/cercul-de-lectura-al-studentilor-germanisti/
LOCATION:Sala 202
CATEGORIES:Extracurricular
END:VEVENT
BEGIN:VEVENT
DTSTART;TZID=Europe/Moscow:20250325T180000
DTEND;TZID=Europe/Moscow:20250701T193000
DTSTAMP:20260422T084306
CREATED:20250312T073605Z
LAST-MODIFIED:20250312T074315Z
UID:14177-1742925600-1751398200@lift.uvt.ro
SUMMARY:Cercul de lectură al studenților germaniștiMarțea\, de la 18:00\, sala 202
DESCRIPTION:Cercul de lectură al studenților germaniști\n \nDe  ce să vii? Ești student la Germană și vrei să-ți îmbunătățești cunoștințele într-un mod distractiv\, interactiv și fără stres.\nCe te așteaptă? Cărți faine\, discuții cool\, seri de film&pizza\, atmosferă chill. \nCând? Marțea\, de la 18:00\, sala 202.\n 
URL:https://lift.uvt.ro/event/cercul-de-lectura-al-studentilor-germanistimartea-de-la-1800-sala-202/
LOCATION:Sala 202
CATEGORIES:Extracurricular
END:VEVENT
BEGIN:VEVENT
DTSTART;TZID=Europe/Moscow:20250327T080000
DTEND;TZID=Europe/Moscow:20250327T093000
DTSTAMP:20260422T084306
CREATED:20250314T135155Z
LAST-MODIFIED:20250314T135155Z
UID:14238-1743062400-1743067800@lift.uvt.ro
SUMMARY:Workshop: Wahlen und Wahlbeteiligung der StudierendenAlegerile și participarea studenților la alegeri
DESCRIPTION:Workshop: Wahlen und Wahlbeteiligung der Studierenden/ Alegerile și participarea studenților la alegeri\nData: 27.03.2025\nOra: 8:00-9:30\nSala: 202\n 
URL:https://lift.uvt.ro/event/workshop-wahlen-und-wahlbeteiligung-der-studierendenalegerile-si-participarea-studentilor-la-alegeri/
LOCATION:Sala 202
CATEGORIES:Extracurricular
END:VEVENT
BEGIN:VEVENT
DTSTART;TZID=Europe/Moscow:20250402T180000
DTEND;TZID=Europe/Moscow:20250402T193000
DTSTAMP:20260422T084306
CREATED:20250313T111828Z
LAST-MODIFIED:20250313T112300Z
UID:14224-1743616800-1743622200@lift.uvt.ro
SUMMARY:RATIO FACILIS vs RATIO DIFFICILIS. [Ești ceea ce citești.]
DESCRIPTION:RATIO FACILIS vs RATIO DIFFICILIS. [Ești ceea ce citești.]\n4 seminare dedicate citirii\, pornind de la afiș ca discurs și obiect estetic.\nPentru studenții LMA de anul III și nu numai\, interesați de traducere și discursuri complexe.\n\n\n Susținute de: Ovidiu Hrin.\n Când?: 19.03\, 02.04\, 16.04\, 07.05.\n Unde?: Sala 248\, UVT.\n De la ora: 18:00.\n Limba: română.\n Cuvânt de deschidere: Conf. univ. dr. Karla Lupșan\, Prodecan al Facultății de Litere\, Istorie\, Filosofie și Teologie.
URL:https://lift.uvt.ro/event/ratio-facilis-vs-ratio-difficilis-esti-ceea-ce-citesti-2/
LOCATION:Sala 248\, Universitatea de Vest din Timișoara\, Bd. Vasile Pârvan nr. 4\, Timișoara\, Timiș\, 300223\, Romania
CATEGORIES:Extracurricular
END:VEVENT
END:VCALENDAR